BEGIN:VCALENDAR
VERSION:2.0
PRODID:-//Rikasa Restaurant - ECPv6.15.15//NONSGML v1.0//EN
CALSCALE:GREGORIAN
METHOD:PUBLISH
X-ORIGINAL-URL:https://www.rikasarestaurant.com
X-WR-CALDESC:Events for Rikasa Restaurant
REFRESH-INTERVAL;VALUE=DURATION:PT1H
X-Robots-Tag:noindex
X-PUBLISHED-TTL:PT1H
BEGIN:VTIMEZONE
TZID:UTC
BEGIN:STANDARD
TZOFFSETFROM:+0000
TZOFFSETTO:+0000
TZNAME:UTC
DTSTART:20220101T000000
END:STANDARD
END:VTIMEZONE
BEGIN:VEVENT
DTSTART;TZID=UTC:20230901T200000
DTEND;TZID=UTC:20230901T220000
DTSTAMP:20260421T051050
CREATED:20230829T225447Z
LAST-MODIFIED:20230829T225447Z
UID:1663-1693598400-1693605600@www.rikasarestaurant.com
SUMMARY:Live Music at Rikasa - Erin Malloy Duo
DESCRIPTION:Join us for Live Music in our Speakeasy – Joint 53
URL:https://www.rikasarestaurant.com/events/live-music-at-rikasa-erin-malloy-duo/
LOCATION:The Joint 53\, 53 South Main Street\, Pittston\, PA\, PA 18640\, United States
CATEGORIES:Music at Rikasa,The Joint 53
END:VEVENT
BEGIN:VEVENT
DTSTART;TZID=UTC:20230902T200000
DTEND;TZID=UTC:20230902T230000
DTSTAMP:20260421T051050
CREATED:20230829T225529Z
LAST-MODIFIED:20230829T225529Z
UID:1664-1693684800-1693695600@www.rikasarestaurant.com
SUMMARY:Live Music at Rikasa - Johnny Dressler
DESCRIPTION:Join us for Live Music in our Speakeasy – Joint 53
URL:https://www.rikasarestaurant.com/events/live-music-at-rikasa-johnny-dressler-2/
LOCATION:The Joint 53\, 53 South Main Street\, Pittston\, PA\, PA 18640\, United States
CATEGORIES:Music at Rikasa,The Joint 53
END:VEVENT
BEGIN:VEVENT
DTSTART;TZID=UTC:20230908T200000
DTEND;TZID=UTC:20230908T220000
DTSTAMP:20260421T051050
CREATED:20230829T225636Z
LAST-MODIFIED:20230829T225636Z
UID:1665-1694203200-1694210400@www.rikasarestaurant.com
SUMMARY:Live Music at Rikasa - South Side Five
DESCRIPTION:Join us for Live Music in our Speakeasy – Joint 53
URL:https://www.rikasarestaurant.com/events/live-music-at-rikasa-south-side-five-2/
CATEGORIES:Music at Rikasa,The Joint 53
END:VEVENT
BEGIN:VEVENT
DTSTART;TZID=UTC:20230909T200000
DTEND;TZID=UTC:20230909T230000
DTSTAMP:20260421T051050
CREATED:20230829T225719Z
LAST-MODIFIED:20230829T225719Z
UID:1666-1694289600-1694300400@www.rikasarestaurant.com
SUMMARY:Live Music at Rikasa - Frost Duo
DESCRIPTION:Join us for Live Music in our Speakeasy – Joint 53
URL:https://www.rikasarestaurant.com/events/live-music-at-rikasa-frost-duo/
LOCATION:The Joint 53\, 53 South Main Street\, Pittston\, PA\, PA 18640\, United States
CATEGORIES:Music at Rikasa,The Joint 53
END:VEVENT
BEGIN:VEVENT
DTSTART;TZID=UTC:20230909T220000
DTEND;TZID=UTC:20230909T233000
DTSTAMP:20260421T051050
CREATED:20230829T231429Z
LAST-MODIFIED:20230829T231429Z
UID:1674-1694296800-1694302200@www.rikasarestaurant.com
SUMMARY:Elevated On Roof53
DESCRIPTION:Join us on SATURDAY\, SEPTEMBER 9\, 2023 as we transform Rooftop 53 @ Rikasa on Main into..STUDIO 53 w/ new electronic dance music monthly hosted on the second Saturday of the month. ELEVATED w/ resident DJs Newpy Hundo & Kyle Burton playing only the finest in deep house\, tech house\, techno\, and more! 10pm-1am!
URL:https://www.rikasarestaurant.com/events/elevated-on-roof53-4/
LOCATION:Roof Top 53
CATEGORIES:Music at Rikasa,Roof Top 53
ATTACH;FMTTYPE=image/png:https://www.rikasarestaurant.com/wp-content/uploads/2023/08/090923-Elevated_digital-poster_final.png
END:VEVENT
BEGIN:VEVENT
DTSTART;TZID=UTC:20230915T200000
DTEND;TZID=UTC:20230915T220000
DTSTAMP:20260421T051050
CREATED:20230829T225910Z
LAST-MODIFIED:20230829T225910Z
UID:1667-1694808000-1694815200@www.rikasarestaurant.com
SUMMARY:Live Music at Rikasa - Joe Michaels Trio
DESCRIPTION:Join us for Live Music in our Speakeasy – Joint 53
URL:https://www.rikasarestaurant.com/events/live-music-at-rikasa-joe-michaels-trio-4/
CATEGORIES:Music at Rikasa,The Joint 53
END:VEVENT
BEGIN:VEVENT
DTSTART;TZID=UTC:20230916T200000
DTEND;TZID=UTC:20230916T230000
DTSTAMP:20260421T051050
CREATED:20230829T225955Z
LAST-MODIFIED:20230829T225955Z
UID:1668-1694894400-1694905200@www.rikasarestaurant.com
SUMMARY:Live Music at Rikasa - Teddy Young
DESCRIPTION:Join us for Live Music in our Speakeasy – Joint 53
URL:https://www.rikasarestaurant.com/events/live-music-at-rikasa-teddy-young-2/
LOCATION:The Joint 53\, 53 South Main Street\, Pittston\, PA\, PA 18640\, United States
CATEGORIES:Music at Rikasa,The Joint 53
END:VEVENT
BEGIN:VEVENT
DTSTART;TZID=UTC:20230922T200000
DTEND;TZID=UTC:20230922T220000
DTSTAMP:20260421T051050
CREATED:20230829T230047Z
LAST-MODIFIED:20230829T230047Z
UID:1669-1695412800-1695420000@www.rikasarestaurant.com
SUMMARY:Live Music at Rikasa - Hot Club of Scranton
DESCRIPTION:Join us for Live Music in our Speakeasy – Joint 53
URL:https://www.rikasarestaurant.com/events/live-music-at-rikasa-hot-club-of-scranton-4/
CATEGORIES:Music at Rikasa,The Joint 53
END:VEVENT
BEGIN:VEVENT
DTSTART;TZID=UTC:20230923T200000
DTEND;TZID=UTC:20230923T220000
DTSTAMP:20260421T051050
CREATED:20230829T231041Z
LAST-MODIFIED:20230829T231041Z
UID:1673-1695499200-1695506400@www.rikasarestaurant.com
SUMMARY:Live Music on Roof53 - Walter Kosar Duo
DESCRIPTION:Join us for Live Music on our Rooftop – 8pm-10pm
URL:https://www.rikasarestaurant.com/events/live-music-on-roof53-walter-kosar-duo/
LOCATION:Roof Top 53
CATEGORIES:Music at Rikasa,Rikasa Restaurant,Roof Top 53
END:VEVENT
BEGIN:VEVENT
DTSTART;TZID=UTC:20230923T200000
DTEND;TZID=UTC:20230923T230000
DTSTAMP:20260421T051050
CREATED:20230829T230141Z
LAST-MODIFIED:20230829T230141Z
UID:1670-1695499200-1695510000@www.rikasarestaurant.com
SUMMARY:Live Music at Rikasa - Chester Ave Trio
DESCRIPTION:Join us for Live Music in our Speakeasy – Joint 53
URL:https://www.rikasarestaurant.com/events/live-music-at-rikasa-chester-ave-trio/
LOCATION:The Joint 53\, 53 South Main Street\, Pittston\, PA\, PA 18640\, United States
CATEGORIES:Music at Rikasa,The Joint 53
END:VEVENT
BEGIN:VEVENT
DTSTART;TZID=UTC:20230929T200000
DTEND;TZID=UTC:20230929T220000
DTSTAMP:20260421T051050
CREATED:20230829T230224Z
LAST-MODIFIED:20230829T230224Z
UID:1671-1696017600-1696024800@www.rikasarestaurant.com
SUMMARY:Live Music at Rikasa - Michelle Oram Group
DESCRIPTION:Join us for Live Music in our Speakeasy – Joint 53
URL:https://www.rikasarestaurant.com/events/live-music-at-rikasa-michelle-oram-group/
CATEGORIES:Music at Rikasa,The Joint 53
END:VEVENT
BEGIN:VEVENT
DTSTART;TZID=UTC:20230930T200000
DTEND;TZID=UTC:20230930T230000
DTSTAMP:20260421T051050
CREATED:20230829T230355Z
LAST-MODIFIED:20230829T230355Z
UID:1672-1696104000-1696114800@www.rikasarestaurant.com
SUMMARY:Live Music at Rikasa - Smooth Retsina Glow
DESCRIPTION:Join us for Live Music in our Speakeasy – Joint 53
URL:https://www.rikasarestaurant.com/events/live-music-at-rikasa-smooth-retsina-glow/
LOCATION:The Joint 53\, 53 South Main Street\, Pittston\, PA\, PA 18640\, United States
CATEGORIES:Music at Rikasa,The Joint 53
END:VEVENT
END:VCALENDAR