BEGIN:VCALENDAR
VERSION:2.0
PRODID:-//Rikasa Restaurant - ECPv6.15.15//NONSGML v1.0//EN
CALSCALE:GREGORIAN
METHOD:PUBLISH
X-WR-CALNAME:Rikasa Restaurant
X-ORIGINAL-URL:https://www.rikasarestaurant.com
X-WR-CALDESC:Events for Rikasa Restaurant
REFRESH-INTERVAL;VALUE=DURATION:PT1H
X-Robots-Tag:noindex
X-PUBLISHED-TTL:PT1H
BEGIN:VTIMEZONE
TZID:UTC
BEGIN:STANDARD
TZOFFSETFROM:+0000
TZOFFSETTO:+0000
TZNAME:UTC
DTSTART:20220101T000000
END:STANDARD
END:VTIMEZONE
BEGIN:VEVENT
DTSTART;TZID=UTC:20230902T200000
DTEND;TZID=UTC:20230902T230000
DTSTAMP:20260423T232732
CREATED:20230829T225529Z
LAST-MODIFIED:20230829T225529Z
UID:1664-1693684800-1693695600@www.rikasarestaurant.com
SUMMARY:Live Music at Rikasa - Johnny Dressler
DESCRIPTION:Join us for Live Music in our Speakeasy – Joint 53
URL:https://www.rikasarestaurant.com/events/live-music-at-rikasa-johnny-dressler-2/
LOCATION:The Joint 53\, 53 South Main Street\, Pittston\, PA\, PA 18640\, United States
CATEGORIES:Music at Rikasa,The Joint 53
END:VEVENT
BEGIN:VEVENT
DTSTART;TZID=UTC:20230908T200000
DTEND;TZID=UTC:20230908T220000
DTSTAMP:20260423T232732
CREATED:20230829T225636Z
LAST-MODIFIED:20230829T225636Z
UID:1665-1694203200-1694210400@www.rikasarestaurant.com
SUMMARY:Live Music at Rikasa - South Side Five
DESCRIPTION:Join us for Live Music in our Speakeasy – Joint 53
URL:https://www.rikasarestaurant.com/events/live-music-at-rikasa-south-side-five-2/
CATEGORIES:Music at Rikasa,The Joint 53
END:VEVENT
BEGIN:VEVENT
DTSTART;TZID=UTC:20230909T200000
DTEND;TZID=UTC:20230909T230000
DTSTAMP:20260423T232732
CREATED:20230829T225719Z
LAST-MODIFIED:20230829T225719Z
UID:1666-1694289600-1694300400@www.rikasarestaurant.com
SUMMARY:Live Music at Rikasa - Frost Duo
DESCRIPTION:Join us for Live Music in our Speakeasy – Joint 53
URL:https://www.rikasarestaurant.com/events/live-music-at-rikasa-frost-duo/
LOCATION:The Joint 53\, 53 South Main Street\, Pittston\, PA\, PA 18640\, United States
CATEGORIES:Music at Rikasa,The Joint 53
END:VEVENT
BEGIN:VEVENT
DTSTART;TZID=UTC:20230909T220000
DTEND;TZID=UTC:20230909T233000
DTSTAMP:20260423T232732
CREATED:20230829T231429Z
LAST-MODIFIED:20230829T231429Z
UID:1674-1694296800-1694302200@www.rikasarestaurant.com
SUMMARY:Elevated On Roof53
DESCRIPTION:Join us on SATURDAY\, SEPTEMBER 9\, 2023 as we transform Rooftop 53 @ Rikasa on Main into..STUDIO 53 w/ new electronic dance music monthly hosted on the second Saturday of the month. ELEVATED w/ resident DJs Newpy Hundo & Kyle Burton playing only the finest in deep house\, tech house\, techno\, and more! 10pm-1am!
URL:https://www.rikasarestaurant.com/events/elevated-on-roof53-4/
LOCATION:Roof Top 53
CATEGORIES:Music at Rikasa,Roof Top 53
ATTACH;FMTTYPE=image/png:https://www.rikasarestaurant.com/wp-content/uploads/2023/08/090923-Elevated_digital-poster_final.png
END:VEVENT
BEGIN:VEVENT
DTSTART;TZID=UTC:20230915T200000
DTEND;TZID=UTC:20230915T220000
DTSTAMP:20260423T232732
CREATED:20230829T225910Z
LAST-MODIFIED:20230829T225910Z
UID:1667-1694808000-1694815200@www.rikasarestaurant.com
SUMMARY:Live Music at Rikasa - Joe Michaels Trio
DESCRIPTION:Join us for Live Music in our Speakeasy – Joint 53
URL:https://www.rikasarestaurant.com/events/live-music-at-rikasa-joe-michaels-trio-4/
CATEGORIES:Music at Rikasa,The Joint 53
END:VEVENT
BEGIN:VEVENT
DTSTART;TZID=UTC:20230916T200000
DTEND;TZID=UTC:20230916T230000
DTSTAMP:20260423T232732
CREATED:20230829T225955Z
LAST-MODIFIED:20230829T225955Z
UID:1668-1694894400-1694905200@www.rikasarestaurant.com
SUMMARY:Live Music at Rikasa - Teddy Young
DESCRIPTION:Join us for Live Music in our Speakeasy – Joint 53
URL:https://www.rikasarestaurant.com/events/live-music-at-rikasa-teddy-young-2/
LOCATION:The Joint 53\, 53 South Main Street\, Pittston\, PA\, PA 18640\, United States
CATEGORIES:Music at Rikasa,The Joint 53
END:VEVENT
BEGIN:VEVENT
DTSTART;TZID=UTC:20230922T200000
DTEND;TZID=UTC:20230922T220000
DTSTAMP:20260423T232732
CREATED:20230829T230047Z
LAST-MODIFIED:20230829T230047Z
UID:1669-1695412800-1695420000@www.rikasarestaurant.com
SUMMARY:Live Music at Rikasa - Hot Club of Scranton
DESCRIPTION:Join us for Live Music in our Speakeasy – Joint 53
URL:https://www.rikasarestaurant.com/events/live-music-at-rikasa-hot-club-of-scranton-4/
CATEGORIES:Music at Rikasa,The Joint 53
END:VEVENT
BEGIN:VEVENT
DTSTART;TZID=UTC:20230923T200000
DTEND;TZID=UTC:20230923T220000
DTSTAMP:20260423T232732
CREATED:20230829T231041Z
LAST-MODIFIED:20230829T231041Z
UID:1673-1695499200-1695506400@www.rikasarestaurant.com
SUMMARY:Live Music on Roof53 - Walter Kosar Duo
DESCRIPTION:Join us for Live Music on our Rooftop – 8pm-10pm
URL:https://www.rikasarestaurant.com/events/live-music-on-roof53-walter-kosar-duo/
LOCATION:Roof Top 53
CATEGORIES:Music at Rikasa,Rikasa Restaurant,Roof Top 53
END:VEVENT
BEGIN:VEVENT
DTSTART;TZID=UTC:20230923T200000
DTEND;TZID=UTC:20230923T230000
DTSTAMP:20260423T232732
CREATED:20230829T230141Z
LAST-MODIFIED:20230829T230141Z
UID:1670-1695499200-1695510000@www.rikasarestaurant.com
SUMMARY:Live Music at Rikasa - Chester Ave Trio
DESCRIPTION:Join us for Live Music in our Speakeasy – Joint 53
URL:https://www.rikasarestaurant.com/events/live-music-at-rikasa-chester-ave-trio/
LOCATION:The Joint 53\, 53 South Main Street\, Pittston\, PA\, PA 18640\, United States
CATEGORIES:Music at Rikasa,The Joint 53
END:VEVENT
BEGIN:VEVENT
DTSTART;TZID=UTC:20230929T200000
DTEND;TZID=UTC:20230929T220000
DTSTAMP:20260423T232732
CREATED:20230829T230224Z
LAST-MODIFIED:20230829T230224Z
UID:1671-1696017600-1696024800@www.rikasarestaurant.com
SUMMARY:Live Music at Rikasa - Michelle Oram Group
DESCRIPTION:Join us for Live Music in our Speakeasy – Joint 53
URL:https://www.rikasarestaurant.com/events/live-music-at-rikasa-michelle-oram-group/
CATEGORIES:Music at Rikasa,The Joint 53
END:VEVENT
BEGIN:VEVENT
DTSTART;TZID=UTC:20230930T200000
DTEND;TZID=UTC:20230930T230000
DTSTAMP:20260423T232732
CREATED:20230829T230355Z
LAST-MODIFIED:20230829T230355Z
UID:1672-1696104000-1696114800@www.rikasarestaurant.com
SUMMARY:Live Music at Rikasa - Smooth Retsina Glow
DESCRIPTION:Join us for Live Music in our Speakeasy – Joint 53
URL:https://www.rikasarestaurant.com/events/live-music-at-rikasa-smooth-retsina-glow/
LOCATION:The Joint 53\, 53 South Main Street\, Pittston\, PA\, PA 18640\, United States
CATEGORIES:Music at Rikasa,The Joint 53
END:VEVENT
BEGIN:VEVENT
DTSTART;TZID=UTC:20231006T200000
DTEND;TZID=UTC:20231006T220000
DTSTAMP:20260423T232732
CREATED:20230921T015111Z
LAST-MODIFIED:20230921T015111Z
UID:1702-1696622400-1696629600@www.rikasarestaurant.com
SUMMARY:Live Music at Rikasa - Jim Waltich & Erin Malloy
DESCRIPTION:Join us for Live Music in our Speakeasy – Joint 53
URL:https://www.rikasarestaurant.com/events/live-music-at-rikasa-jim-waltich-erin-malloy-3/
CATEGORIES:Music at Rikasa,The Joint 53
END:VEVENT
BEGIN:VEVENT
DTSTART;TZID=UTC:20231007T200000
DTEND;TZID=UTC:20231007T230000
DTSTAMP:20260423T232732
CREATED:20230921T015227Z
LAST-MODIFIED:20230921T015227Z
UID:1703-1696708800-1696719600@www.rikasarestaurant.com
SUMMARY:Live Music at Rikasa - Crates Duo
DESCRIPTION:Join us for Live Music in our Speakeasy – Joint 53
URL:https://www.rikasarestaurant.com/events/live-music-at-rikasa-crates-duo/
CATEGORIES:Music at Rikasa,The Joint 53
END:VEVENT
BEGIN:VEVENT
DTSTART;TZID=UTC:20231013T200000
DTEND;TZID=UTC:20231013T220000
DTSTAMP:20260423T232732
CREATED:20230921T015607Z
LAST-MODIFIED:20230921T015607Z
UID:1704-1697227200-1697234400@www.rikasarestaurant.com
SUMMARY:Live Music at Rikasa - Hot Club of Scranton
DESCRIPTION:Join us for Live Music in our Speakeasy – Joint 53
URL:https://www.rikasarestaurant.com/events/live-music-at-rikasa-hot-club-of-scranton-5/
CATEGORIES:Music at Rikasa,The Joint 53
END:VEVENT
BEGIN:VEVENT
DTSTART;TZID=UTC:20231014T180000
DTEND;TZID=UTC:20231014T220000
DTSTAMP:20260423T232732
CREATED:20230914T051413Z
LAST-MODIFIED:20230914T051413Z
UID:1688-1697306400-1697320800@www.rikasarestaurant.com
SUMMARY:Comedy Show @ Room 53
DESCRIPTION:Dinner and a show! October 14th at Rikasa. Comedy  Performances by Kevin Lepka\, The Reverend Bob Levy\, Amanda Gail\, & Allan Fuks (Pronounced FOOKS).\nPurchase your tickets now online.\nTicket includes station style dinner served 6pm-8pm and popcorn station during the show.\n\nPurchase your ticket at: BUY TICKETS NOW \nSell tickets online with Ticketleap
URL:https://www.rikasarestaurant.com/events/comedy-show-room-53-2/
LOCATION:Rikasa Restaurant\, 53 South Main Street\, Pittston\, PA\, 18640\, United States
CATEGORIES:Rikasa Restaurant,Room 53
ATTACH;FMTTYPE=image/png:https://www.rikasarestaurant.com/wp-content/uploads/2023/09/rikasa-comedy-october-2.png
END:VEVENT
BEGIN:VEVENT
DTSTART;TZID=UTC:20231014T200000
DTEND;TZID=UTC:20231014T230000
DTSTAMP:20260423T232732
CREATED:20230921T015647Z
LAST-MODIFIED:20230921T015647Z
UID:1705-1697313600-1697324400@www.rikasarestaurant.com
SUMMARY:Live Music at Rikasa - Justin Bravo Duo
DESCRIPTION:Join us for Live Music in our Speakeasy – Joint 53
URL:https://www.rikasarestaurant.com/events/live-music-at-rikasa-justin-bravo-duo-2/
CATEGORIES:Music at Rikasa,The Joint 53
END:VEVENT
BEGIN:VEVENT
DTSTART;TZID=UTC:20231019T170000
DTEND;TZID=UTC:20231025T210000
DTSTAMP:20260423T232732
CREATED:20230920T040743Z
LAST-MODIFIED:20230920T040743Z
UID:1698-1697734800-1698267600@www.rikasarestaurant.com
SUMMARY:Oktoberfest
DESCRIPTION:For one week at Rikasa\, we will be having fun Oktoberfest features! Delicious food prepared by Chef Wookie & Chef Dillon\, and delicious beers sourced from SBC & Breaker Brewing Company.
URL:https://www.rikasarestaurant.com/events/oktoberfest/
LOCATION:Rikasa Restaurant\, 53 South Main Street\, Pittston\, PA\, 18640\, United States
CATEGORIES:Rikasa Restaurant,Roof Top 53
ATTACH;FMTTYPE=image/png:https://www.rikasarestaurant.com/wp-content/uploads/2023/09/Oktoberfest-Menu.png
END:VEVENT
BEGIN:VEVENT
DTSTART;TZID=UTC:20231020T200000
DTEND;TZID=UTC:20231020T220000
DTSTAMP:20260423T232732
CREATED:20230921T015730Z
LAST-MODIFIED:20230921T015730Z
UID:1706-1697832000-1697839200@www.rikasarestaurant.com
SUMMARY:Live Music at Rikasa - Joe Michaels Trio
DESCRIPTION:Join us for Live Music in our Speakeasy – Joint 53
URL:https://www.rikasarestaurant.com/events/live-music-at-rikasa-joe-michaels-trio-5/
CATEGORIES:Music at Rikasa,The Joint 53
END:VEVENT
BEGIN:VEVENT
DTSTART;TZID=UTC:20231021T190000
DTEND;TZID=UTC:20231021T220000
DTSTAMP:20260423T232732
CREATED:20230921T015937Z
LAST-MODIFIED:20230921T015937Z
UID:1708-1697914800-1697925600@www.rikasarestaurant.com
SUMMARY:Live Music at Rikasa - Johnny Dressler on Roof53
DESCRIPTION:Join us for Live Music on our Rooftop
URL:https://www.rikasarestaurant.com/events/live-music-at-rikasa-johnny-dressler-on-roof53/
CATEGORIES:Music at Rikasa,Rikasa Restaurant,Roof Top 53
END:VEVENT
BEGIN:VEVENT
DTSTART;TZID=UTC:20231021T200000
DTEND;TZID=UTC:20231021T230000
DTSTAMP:20260423T232732
CREATED:20230921T015804Z
LAST-MODIFIED:20230921T015804Z
UID:1707-1697918400-1697929200@www.rikasarestaurant.com
SUMMARY:Live Music at Rikasa - Phyllis Hopkins Electric Trio
DESCRIPTION:Join us for Live Music in our Speakeasy – Joint 53
URL:https://www.rikasarestaurant.com/events/live-music-at-rikasa-phyllis-hopkins-electric-trio-2/
CATEGORIES:Music at Rikasa,The Joint 53
END:VEVENT
BEGIN:VEVENT
DTSTART;TZID=UTC:20231027T200000
DTEND;TZID=UTC:20231027T220000
DTSTAMP:20260423T232732
CREATED:20230921T020009Z
LAST-MODIFIED:20230921T020009Z
UID:1709-1698436800-1698444000@www.rikasarestaurant.com
SUMMARY:Live Music at Rikasa - Hot Club of Scranton
DESCRIPTION:Join us for Live Music in our Speakeasy – Joint 53
URL:https://www.rikasarestaurant.com/events/live-music-at-rikasa-hot-club-of-scranton-6/
CATEGORIES:Music at Rikasa,The Joint 53
END:VEVENT
BEGIN:VEVENT
DTSTART;TZID=UTC:20231028T200000
DTEND;TZID=UTC:20231028T230000
DTSTAMP:20260423T232732
CREATED:20230921T020045Z
LAST-MODIFIED:20230921T020045Z
UID:1710-1698523200-1698534000@www.rikasarestaurant.com
SUMMARY:Live Music at Rikasa - Reilly-Lewis Duo
DESCRIPTION:Join us for Live Music in our Speakeasy – Joint 53
URL:https://www.rikasarestaurant.com/events/live-music-at-rikasa-reilly-lewis-duo/
CATEGORIES:Music at Rikasa,The Joint 53
END:VEVENT
BEGIN:VEVENT
DTSTART;TZID=UTC:20231029T180000
DTEND;TZID=UTC:20231029T220000
DTSTAMP:20260423T232732
CREATED:20230920T035905Z
LAST-MODIFIED:20230920T035905Z
UID:1696-1698602400-1698616800@www.rikasarestaurant.com
SUMMARY:Clued In: Murder Mystery Dinner
DESCRIPTION:Join us for a Sunday evening of Cocktails\, Mystery & a Dinner to Die for. You and your team will play real-life interactive ‘Clue’ amongst the 4 levels of Rikasa to figure out who murdered Mr. Bartholomew Boddy.  \n$134.94 per person includes 4 hours of open bar\, appetizers\, dinner\, dessert\, tax\, & gratuity. \n\nBUY TICKETS NOW \n\nSell tickets online with Ticketleap
URL:https://www.rikasarestaurant.com/events/clued-in-murder-mystery-dinner/
LOCATION:Rikasa Restaurant\, 53 South Main Street\, Pittston\, PA\, 18640\, United States
CATEGORIES:Rikasa Restaurant
ATTACH;FMTTYPE=image/png:https://www.rikasarestaurant.com/wp-content/uploads/2023/09/Rikasa-Clued-In-3.png
END:VEVENT
BEGIN:VEVENT
DTSTART;TZID=UTC:20231103T200000
DTEND;TZID=UTC:20231103T220000
DTSTAMP:20260423T232732
CREATED:20230910T002014Z
LAST-MODIFIED:20230910T002014Z
UID:1681-1699041600-1699048800@www.rikasarestaurant.com
SUMMARY:FIFTY SHADES THE LIVE SHOW: NIGHT 1
DESCRIPTION:Fifty Shades The Live Show is coming to Rikasa for your enjoyment for two nights! Come experience an amazing time with us and these amazing men! Cash Bar will be available\, VIP Tables available by calling us at 570-362-7777 Click the link to purchase General Admission Tickets.
URL:https://www.rikasarestaurant.com/events/fifty-shades-the-live-show-night-1/
LOCATION:Rikasa Restaurant\, 53 South Main Street\, Pittston\, PA\, 18640\, United States
CATEGORIES:Rikasa Restaurant,Room 53
ATTACH;FMTTYPE=image/png:https://www.rikasarestaurant.com/wp-content/uploads/2023/09/Rikasa-fifty-shades.png
END:VEVENT
BEGIN:VEVENT
DTSTART;TZID=UTC:20231103T200000
DTEND;TZID=UTC:20231103T220000
DTSTAMP:20260423T232732
CREATED:20231031T224452Z
LAST-MODIFIED:20231031T224452Z
UID:1747-1699041600-1699048800@www.rikasarestaurant.com
SUMMARY:Live Music at Rikasa - Lush Life Ensemble
DESCRIPTION:Join us for Live Music in our Speakeasy – Joint 53
URL:https://www.rikasarestaurant.com/events/live-music-at-rikasa-lush-life-ensemble-2/
CATEGORIES:Music at Rikasa,The Joint 53
END:VEVENT
BEGIN:VEVENT
DTSTART;TZID=UTC:20231104T200000
DTEND;TZID=UTC:20231104T220000
DTSTAMP:20260423T232732
CREATED:20230910T002040Z
LAST-MODIFIED:20230910T002040Z
UID:1683-1699128000-1699135200@www.rikasarestaurant.com
SUMMARY:FIFTY SHADES THE LIVE SHOW: NIGHT 2
DESCRIPTION:Fifty Shades The Live Show is coming to Rikasa for your enjoyment for two nights! Come experience an amazing time with us and these amazing men! Cash Bar will be available\, VIP Tables available by calling us at 570-362-7777 Click the link to purchase General Admission Tickets.
URL:https://www.rikasarestaurant.com/events/fifty-shades-the-live-show-night-2/
LOCATION:Rikasa Restaurant\, 53 South Main Street\, Pittston\, PA\, 18640\, United States
CATEGORIES:Rikasa Restaurant,Room 53
ATTACH;FMTTYPE=image/png:https://www.rikasarestaurant.com/wp-content/uploads/2023/09/Rikasa-fifty-shades.png
END:VEVENT
BEGIN:VEVENT
DTSTART;TZID=UTC:20231104T200000
DTEND;TZID=UTC:20231104T230000
DTSTAMP:20260423T232732
CREATED:20231031T224531Z
LAST-MODIFIED:20231031T224531Z
UID:1748-1699128000-1699138800@www.rikasarestaurant.com
SUMMARY:Live Music at Rikasa - M2K Duo
DESCRIPTION:Join us for Live Music in our Speakeasy – Joint 53
URL:https://www.rikasarestaurant.com/events/live-music-at-rikasa-m2k-duo/
CATEGORIES:Music at Rikasa,The Joint 53
END:VEVENT
BEGIN:VEVENT
DTSTART;TZID=UTC:20231110T200000
DTEND;TZID=UTC:20231110T220000
DTSTAMP:20260423T232732
CREATED:20231031T224617Z
LAST-MODIFIED:20231031T224617Z
UID:1749-1699646400-1699653600@www.rikasarestaurant.com
SUMMARY:Live Music at Rikasa - South Side Five
DESCRIPTION:Join us for Live Music in our Speakeasy – Joint 53
URL:https://www.rikasarestaurant.com/events/live-music-at-rikasa-south-side-five-3/
CATEGORIES:Music at Rikasa,The Joint 53
END:VEVENT
BEGIN:VEVENT
DTSTART;TZID=UTC:20231111T200000
DTEND;TZID=UTC:20231111T230000
DTSTAMP:20260423T232732
CREATED:20231031T224708Z
LAST-MODIFIED:20231031T224708Z
UID:1750-1699732800-1699743600@www.rikasarestaurant.com
SUMMARY:Live Music at Rikasa - Phyllis Hopkins Electric Trio
DESCRIPTION:Join us for Live Music in our Speakeasy – Joint 53
URL:https://www.rikasarestaurant.com/events/live-music-at-rikasa-phyllis-hopkins-electric-trio-3/
CATEGORIES:Music at Rikasa,The Joint 53
END:VEVENT
BEGIN:VEVENT
DTSTART;TZID=UTC:20231113T180000
DTEND;TZID=UTC:20231113T210000
DTSTAMP:20260423T232732
CREATED:20231021T041745Z
LAST-MODIFIED:20231021T041745Z
UID:1739-1699898400-1699909200@www.rikasarestaurant.com
SUMMARY:International Wine Dinner
DESCRIPTION:Join us on Monday\, November 13th for an International Wine Dinner on Rooftop53. Come experience the wine and cousine from five different countries. \n$125.40 per person includes wine tasting for each dish\, dinner\, tax & gratuity \nPurchase your tickets here: \n\nBUY TICKETS NOW \nSell tickets online with Ticketleap
URL:https://www.rikasarestaurant.com/events/international-wine-dinner/
LOCATION:Roof Top 53
CATEGORIES:Music at Rikasa,Rikasa Restaurant,Roof Top 53
ATTACH;FMTTYPE=image/png:https://www.rikasarestaurant.com/wp-content/uploads/2023/10/Rikasa-IWD-1-1.png
END:VEVENT
END:VCALENDAR