BEGIN:VCALENDAR
VERSION:2.0
PRODID:-//Rikasa Restaurant - ECPv6.15.15//NONSGML v1.0//EN
CALSCALE:GREGORIAN
METHOD:PUBLISH
X-ORIGINAL-URL:https://www.rikasarestaurant.com
X-WR-CALDESC:Events for Rikasa Restaurant
REFRESH-INTERVAL;VALUE=DURATION:PT1H
X-Robots-Tag:noindex
X-PUBLISHED-TTL:PT1H
BEGIN:VTIMEZONE
TZID:UTC
BEGIN:STANDARD
TZOFFSETFROM:+0000
TZOFFSETTO:+0000
TZNAME:UTC
DTSTART:20230101T000000
END:STANDARD
END:VTIMEZONE
BEGIN:VTIMEZONE
TZID:America/New_York
BEGIN:DAYLIGHT
TZOFFSETFROM:-0500
TZOFFSETTO:-0400
TZNAME:EDT
DTSTART:20230312T070000
END:DAYLIGHT
BEGIN:STANDARD
TZOFFSETFROM:-0400
TZOFFSETTO:-0500
TZNAME:EST
DTSTART:20231105T060000
END:STANDARD
BEGIN:DAYLIGHT
TZOFFSETFROM:-0500
TZOFFSETTO:-0400
TZNAME:EDT
DTSTART:20240310T070000
END:DAYLIGHT
BEGIN:STANDARD
TZOFFSETFROM:-0400
TZOFFSETTO:-0500
TZNAME:EST
DTSTART:20241103T060000
END:STANDARD
BEGIN:DAYLIGHT
TZOFFSETFROM:-0500
TZOFFSETTO:-0400
TZNAME:EDT
DTSTART:20250309T070000
END:DAYLIGHT
BEGIN:STANDARD
TZOFFSETFROM:-0400
TZOFFSETTO:-0500
TZNAME:EST
DTSTART:20251102T060000
END:STANDARD
END:VTIMEZONE
BEGIN:VEVENT
DTSTART;TZID=UTC:20240216T200000
DTEND;TZID=UTC:20240216T220000
DTSTAMP:20260421T151220
CREATED:20240115T215408Z
LAST-MODIFIED:20240115T215408Z
UID:1839-1708113600-1708120800@www.rikasarestaurant.com
SUMMARY:Live Music at Rikasa - Lush Life Ensemble
DESCRIPTION:Join us for Live Music in our Speakeasy – Joint 53
URL:https://www.rikasarestaurant.com/events/live-music-at-rikasa-lush-life-ensemble-4/
LOCATION:PA
CATEGORIES:Music at Rikasa,The Joint 53
END:VEVENT
BEGIN:VEVENT
DTSTART;TZID=UTC:20240217T170000
DTEND;TZID=UTC:20240217T230000
DTSTAMP:20260421T151220
CREATED:20240122T191335Z
LAST-MODIFIED:20240122T191335Z
UID:1854-1708189200-1708210800@www.rikasarestaurant.com
SUMMARY:Moulin Rouge Pop-Up
DESCRIPTION:Here we go ladies!  Rikasa is turning The Joint into Moulin Rouge pop up! Our team has been working hard to put this to life for all of you! Specialty Cocktails\, Small Plates\, & Photo Ops! Moulin Rouge will be open starting February 2nd! Thursday 5pm-9pm\, Friday 5pm-10pm\, Saturday 5pm-11pm! If you dine with us you get in for FREE!\nReservations are very strongly recommended! Call today! 570-362-7777\n\nThere is a non refundable fee to enter the Pop-up!\nGroups 1-4: $10\nGroups 5-8: $20\nGroups 9-12: $30\nGroups 13+: $50
URL:https://www.rikasarestaurant.com/events/moulin-rouge-pop-up-8/
LOCATION:The Joint 53\, 53 South Main Street\, Pittston\, PA\, PA 18640\, United States
CATEGORIES:Rikasa Restaurant,The Joint 53
ATTACH;FMTTYPE=image/jpeg:https://www.rikasarestaurant.com/wp-content/uploads/2024/01/rikasaonmain-pop-up-joint.jpg
END:VEVENT
BEGIN:VEVENT
DTSTART;TZID=UTC:20240217T200000
DTEND;TZID=UTC:20240217T230000
DTSTAMP:20260421T151220
CREATED:20240115T215517Z
LAST-MODIFIED:20240115T215517Z
UID:1840-1708200000-1708210800@www.rikasarestaurant.com
SUMMARY:Live Music at Rikasa - Teddy Young
DESCRIPTION:Join us for Live Music in our Speakeasy – Joint 53
URL:https://www.rikasarestaurant.com/events/live-music-at-rikasa-teddy-young-3/
LOCATION:PA
CATEGORIES:Music at Rikasa,The Joint 53
END:VEVENT
BEGIN:VEVENT
DTSTART;TZID=UTC:20240221T170000
DTEND;TZID=UTC:20240221T203000
DTSTAMP:20260421T151220
CREATED:20240122T224617Z
LAST-MODIFIED:20240122T224617Z
UID:1867-1708534800-1708547400@www.rikasarestaurant.com
SUMMARY:Wine & Pasta Wednesday
DESCRIPTION:Every Wednesday on the first floor and rooftop! Enjoy half portions of pasta for half the price\, and any house classic wine for $6 a glass! \nCLICK HERE FOR MENU!
URL:https://www.rikasarestaurant.com/events/wine-pasta-wednesday-5/
LOCATION:PA
CATEGORIES:Rikasa Restaurant,Roof Top 53
ATTACH;FMTTYPE=application/pdf:https://www.rikasarestaurant.com/wp-content/uploads/2024/01/rikasa-pasta-wednesday.pdf
END:VEVENT
BEGIN:VEVENT
DTSTART;TZID=UTC:20240221T190000
DTEND;TZID=UTC:20240221T210000
DTSTAMP:20260421T151220
CREATED:20240207T190246Z
LAST-MODIFIED:20240207T190246Z
UID:1872-1708542000-1708549200@www.rikasarestaurant.com
SUMMARY:Single & Mingle: Speed Dating
DESCRIPTION:Ladies & gentleman\, if you’re single now is your time to put yourself out there and give dating another shot! 🤩\nJoin us on February 21st for Single & Mingle\, the Speed Dating event! 🏁🩷 Get the chance to meet someone new or spark an old flame! 🔥\nThis event is for men & women 25+ years of age! $25 per person admission\, light appetizers included 😋Fill out the link below to sign up!
URL:https://www.rikasarestaurant.com/events/single-mingle-speed-dating/
LOCATION:The Joint 53\, 53 South Main Street\, Pittston\, PA\, PA 18640\, United States
CATEGORIES:Rikasa Restaurant,The Joint 53
ATTACH;FMTTYPE=image/jpeg:https://www.rikasarestaurant.com/wp-content/uploads/2024/02/Soft-Pink-Minimalist-Illustration-Speed-Dating-Poster.jpg
END:VEVENT
BEGIN:VEVENT
DTSTART;TZID=UTC:20240222T170000
DTEND;TZID=UTC:20240222T210000
DTSTAMP:20260421T151220
CREATED:20240122T191434Z
LAST-MODIFIED:20240122T191434Z
UID:1855-1708621200-1708635600@www.rikasarestaurant.com
SUMMARY:Moulin Rouge Pop-Up
DESCRIPTION:Here we go ladies!  Rikasa is turning The Joint into Moulin Rouge pop up! Our team has been working hard to put this to life for all of you! Specialty Cocktails\, Small Plates\, & Photo Ops! Moulin Rouge will be open starting February 2nd! Thursday 5pm-9pm\, Friday 5pm-10pm\, Saturday 5pm-11pm! If you dine with us you get in for FREE!\nReservations are very strongly recommended! Call today! 570-362-7777\n\nThere is a non refundable fee to enter the Pop-up!\nGroups 1-4: $10\nGroups 5-8: $20\nGroups 9-12: $30\nGroups 13+: $50
URL:https://www.rikasarestaurant.com/events/moulin-rouge-pop-up-9/
LOCATION:The Joint 53\, 53 South Main Street\, Pittston\, PA\, PA 18640\, United States
CATEGORIES:Rikasa Restaurant,The Joint 53
ATTACH;FMTTYPE=image/jpeg:https://www.rikasarestaurant.com/wp-content/uploads/2024/01/rikasaonmain-pop-up-joint.jpg
END:VEVENT
BEGIN:VEVENT
DTSTART;TZID=UTC:20240223T170000
DTEND;TZID=UTC:20240223T220000
DTSTAMP:20260421T151220
CREATED:20240122T191546Z
LAST-MODIFIED:20240122T191546Z
UID:1856-1708707600-1708725600@www.rikasarestaurant.com
SUMMARY:Moulin Rouge Pop-Up
DESCRIPTION:Here we go ladies!  Rikasa is turning The Joint into Moulin Rouge pop up! Our team has been working hard to put this to life for all of you! Specialty Cocktails\, Small Plates\, & Photo Ops! Moulin Rouge will be open starting February 2nd! Thursday 5pm-9pm\, Friday 5pm-10pm\, Saturday 5pm-11pm! If you dine with us you get in for FREE!\nReservations are very strongly recommended! Call today! 570-362-7777\n\nThere is a non refundable fee to enter the Pop-up!\nGroups 1-4: $10\nGroups 5-8: $20\nGroups 9-12: $30\nGroups 13+: $50
URL:https://www.rikasarestaurant.com/events/moulin-rouge-pop-up-10/
LOCATION:The Joint 53\, 53 South Main Street\, Pittston\, PA\, PA 18640\, United States
CATEGORIES:Rikasa Restaurant,The Joint 53
ATTACH;FMTTYPE=image/jpeg:https://www.rikasarestaurant.com/wp-content/uploads/2024/01/rikasaonmain-pop-up-joint.jpg
END:VEVENT
BEGIN:VEVENT
DTSTART;TZID=UTC:20240223T200000
DTEND;TZID=UTC:20240223T220000
DTSTAMP:20260421T151220
CREATED:20240115T215600Z
LAST-MODIFIED:20240115T215600Z
UID:1841-1708718400-1708725600@www.rikasarestaurant.com
SUMMARY:Live Music at Rikasa - Reel in the Airs
DESCRIPTION:Join us for Live Music in our Speakeasy – Joint 53
URL:https://www.rikasarestaurant.com/events/live-music-at-rikasa-reel-in-the-airs/
LOCATION:PA
CATEGORIES:Music at Rikasa,The Joint 53
END:VEVENT
BEGIN:VEVENT
DTSTART;TZID=UTC:20240224T170000
DTEND;TZID=UTC:20240224T230000
DTSTAMP:20260421T151220
CREATED:20240122T191615Z
LAST-MODIFIED:20240122T191615Z
UID:1857-1708794000-1708815600@www.rikasarestaurant.com
SUMMARY:Moulin Rouge Pop-Up
DESCRIPTION:Here we go ladies!  Rikasa is turning The Joint into Moulin Rouge pop up! Our team has been working hard to put this to life for all of you! Specialty Cocktails\, Small Plates\, & Photo Ops! Moulin Rouge will be open starting February 2nd! Thursday 5pm-9pm\, Friday 5pm-10pm\, Saturday 5pm-11pm! If you dine with us you get in for FREE!\nReservations are very strongly recommended! Call today! 570-362-7777\n\nThere is a non refundable fee to enter the Pop-up!\nGroups 1-4: $10\nGroups 5-8: $20\nGroups 9-12: $30\nGroups 13+: $50
URL:https://www.rikasarestaurant.com/events/moulin-rouge-pop-up-11/
LOCATION:The Joint 53\, 53 South Main Street\, Pittston\, PA\, PA 18640\, United States
CATEGORIES:Rikasa Restaurant,The Joint 53
ATTACH;FMTTYPE=image/jpeg:https://www.rikasarestaurant.com/wp-content/uploads/2024/01/rikasaonmain-pop-up-joint.jpg
END:VEVENT
BEGIN:VEVENT
DTSTART;TZID=UTC:20240224T200000
DTEND;TZID=UTC:20240224T230000
DTSTAMP:20260421T151220
CREATED:20240115T215638Z
LAST-MODIFIED:20240115T215638Z
UID:1842-1708804800-1708815600@www.rikasarestaurant.com
SUMMARY:Live Music at Rikasa - Justin Bravo
DESCRIPTION:Join us for Live Music in our Speakeasy – Joint 53
URL:https://www.rikasarestaurant.com/events/live-music-at-rikasa-justin-bravo/
LOCATION:PA
CATEGORIES:Music at Rikasa,The Joint 53
END:VEVENT
BEGIN:VEVENT
DTSTART;TZID=UTC:20240228T170000
DTEND;TZID=UTC:20240228T203000
DTSTAMP:20260421T151220
CREATED:20240122T224701Z
LAST-MODIFIED:20240122T224701Z
UID:1868-1709139600-1709152200@www.rikasarestaurant.com
SUMMARY:Wine & Pasta Wednesday
DESCRIPTION:Every Wednesday on the first floor and rooftop! Enjoy half portions of pasta for half the price\, and any house classic wine for $6 a glass! \nCLICK HERE FOR MENU!
URL:https://www.rikasarestaurant.com/events/wine-pasta-wednesday-4/
LOCATION:PA
CATEGORIES:Rikasa Restaurant,Roof Top 53
ATTACH;FMTTYPE=application/pdf:https://www.rikasarestaurant.com/wp-content/uploads/2024/01/rikasa-pasta-wednesday.pdf
END:VEVENT
BEGIN:VEVENT
DTSTART;TZID=UTC:20240301T200000
DTEND;TZID=UTC:20240301T220000
DTSTAMP:20260421T151220
CREATED:20240226T214629Z
LAST-MODIFIED:20240226T214629Z
UID:1878-1709323200-1709330400@www.rikasarestaurant.com
SUMMARY:Live Music at Rikasa - Hot Club of Scranton
DESCRIPTION:Join us for Live Music in our Speakeasy – Joint 53
URL:https://www.rikasarestaurant.com/events/live-music-at-rikasa-hot-club-of-scranton-9/
LOCATION:The Joint 53\, 53 South Main Street\, Pittston\, PA\, PA 18640\, United States
CATEGORIES:Music at Rikasa,The Joint 53
END:VEVENT
BEGIN:VEVENT
DTSTART;TZID=UTC:20240302T170000
DTEND;TZID=UTC:20240302T220000
DTSTAMP:20260421T151220
CREATED:20240226T222049Z
LAST-MODIFIED:20240226T222049Z
UID:1898-1709398800-1709416800@www.rikasarestaurant.com
SUMMARY:Pittston St. Patrick's Day Parade
DESCRIPTION:Parade Day is one week away on March 2nd and here’s what you need to know!\n~ Rikasa will not be participating in Pittston’s bar crawl this year! We will be open during normal business hours 5pm-10pm\n~ Dinner service will only be on the first floor\, the rooftop will be open for drinks ONLY! Live Music will be on the rooftop by Autumn Falls Entertainment!\n~ If you have dinner reservations it’s free entry\, walk-ins will be required to pay a $5 fee that will come off your bill!  Reservations are strongly recommended!\n~ You are able to reserve a table for drinks only on the rooftop! **There will be no food service on the rooftop**\n\n\nFor reservations\, 570-362-7777 or click the link below!
URL:https://www.rikasarestaurant.com/events/pittston-st-patricks-day-parade/
LOCATION:Rikasa Restaurant\, 53 South Main Street\, Pittston\, PA\, 18640\, United States
CATEGORIES:Rikasa Restaurant,Roof Top 53
ATTACH;FMTTYPE=image/jpeg:https://www.rikasarestaurant.com/wp-content/uploads/2024/02/Rikasa-parade-day.jpg
END:VEVENT
BEGIN:VEVENT
DTSTART;TZID=UTC:20240302T190000
DTEND;TZID=UTC:20240302T220000
DTSTAMP:20260421T151220
CREATED:20240226T215125Z
LAST-MODIFIED:20240226T215125Z
UID:1879-1709406000-1709416800@www.rikasarestaurant.com
SUMMARY:Live Music at Rikasa - Autumn Falls Entertainment
DESCRIPTION:Join us for Live Music on our Rooftop!
URL:https://www.rikasarestaurant.com/events/live-music-at-rikasa-autumn-falls-entertainment-2/
LOCATION:PA
CATEGORIES:Music at Rikasa,The Joint 53
END:VEVENT
BEGIN:VEVENT
DTSTART;TZID=UTC:20240305T180000
DTEND;TZID=UTC:20240305T210000
DTSTAMP:20260421T151220
CREATED:20240226T221726Z
LAST-MODIFIED:20240226T221726Z
UID:1896-1709661600-1709672400@www.rikasarestaurant.com
SUMMARY:Gather & Graze
DESCRIPTION:Join us for Gather & Graze\, an event where you and your friends can build your own charcuterie board! If you love meats and cheese then this event is surely for you! This event includes a pitcher of sangria for groups 2-4 people! Must be 21+ to attend this event! \nThis event is on March 5th and March 19th: 6pm-9pm both days! \nTicket is $55.80 per person includes the building of your board\, sangria\, tax & gratuity! \nCall: 570-362-7777 to reserve your spots! Reservations are required for this event!
URL:https://www.rikasarestaurant.com/events/gather-graze/
LOCATION:PA
CATEGORIES:Rikasa Restaurant,Room 53
ATTACH;FMTTYPE=image/jpeg:https://www.rikasarestaurant.com/wp-content/uploads/2024/02/GATHER-AND-GRAZE-RIKASA-.jpg
END:VEVENT
BEGIN:VEVENT
DTSTART;TZID=UTC:20240306T170000
DTEND;TZID=UTC:20240306T203000
DTSTAMP:20260421T151220
CREATED:20240226T221129Z
LAST-MODIFIED:20240226T221129Z
UID:1892-1709744400-1709757000@www.rikasarestaurant.com
SUMMARY:Wine & Pasta Wednesday
DESCRIPTION:Every Wednesday on the first floor and rooftop! Enjoy half portions of pasta for half the price\, and any house classic wine for $6 a glass! \nCLICK HERE FOR MENU!
URL:https://www.rikasarestaurant.com/events/wine-pasta-wednesday-6/
LOCATION:PA
CATEGORIES:Rikasa Restaurant,Roof Top 53
ATTACH;FMTTYPE=application/pdf:https://www.rikasarestaurant.com/wp-content/uploads/2024/01/rikasa-pasta-wednesday.pdf
END:VEVENT
BEGIN:VEVENT
DTSTART;TZID=UTC:20240308T200000
DTEND;TZID=UTC:20240308T220000
DTSTAMP:20260421T151220
CREATED:20240226T215235Z
LAST-MODIFIED:20240226T215235Z
UID:1880-1709928000-1709935200@www.rikasarestaurant.com
SUMMARY:Live Music at Rikasa - South Side Five
DESCRIPTION:Join us for Live Music in our Speakeasy – Joint 53
URL:https://www.rikasarestaurant.com/events/live-music-at-rikasa-south-side-five-7/
LOCATION:The Joint 53\, 53 South Main Street\, Pittston\, PA\, PA 18640\, United States
CATEGORIES:Music at Rikasa,The Joint 53
END:VEVENT
BEGIN:VEVENT
DTSTART;TZID=UTC:20240309T200000
DTEND;TZID=UTC:20240309T230000
DTSTAMP:20260421T151220
CREATED:20240226T215341Z
LAST-MODIFIED:20240226T215341Z
UID:1882-1710014400-1710025200@www.rikasarestaurant.com
SUMMARY:Live Music at Rikasa - Eddie Appnel
DESCRIPTION:Join us for Live Music in our Speakeasy – Joint 53
URL:https://www.rikasarestaurant.com/events/live-music-at-rikasa-eddie-appnel-2/
LOCATION:PA
CATEGORIES:Music at Rikasa,The Joint 53
END:VEVENT
BEGIN:VEVENT
DTSTART;TZID=UTC:20240313T170000
DTEND;TZID=UTC:20240313T203000
DTSTAMP:20260421T151220
CREATED:20240226T221201Z
LAST-MODIFIED:20240226T221201Z
UID:1893-1710349200-1710361800@www.rikasarestaurant.com
SUMMARY:Wine & Pasta Wednesday
DESCRIPTION:Every Wednesday on the first floor and rooftop! Enjoy half portions of pasta for half the price\, and any house classic wine for $6 a glass! \nCLICK HERE FOR MENU!
URL:https://www.rikasarestaurant.com/events/wine-pasta-wednesday-7/
LOCATION:PA
CATEGORIES:Rikasa Restaurant,Roof Top 53
ATTACH;FMTTYPE=application/pdf:https://www.rikasarestaurant.com/wp-content/uploads/2024/01/rikasa-pasta-wednesday.pdf
END:VEVENT
BEGIN:VEVENT
DTSTART;TZID=UTC:20240315T200000
DTEND;TZID=UTC:20240315T220000
DTSTAMP:20260421T151220
CREATED:20240226T215448Z
LAST-MODIFIED:20240226T215448Z
UID:1883-1710532800-1710540000@www.rikasarestaurant.com
SUMMARY:Live Music at Rikasa - 2 Chicks 1 Guitar
DESCRIPTION:Join us for Live Music in our Speakeasy – Joint 53
URL:https://www.rikasarestaurant.com/events/live-music-at-rikasa-2-chicks-1-guitar/
LOCATION:The Joint 53\, 53 South Main Street\, Pittston\, PA\, PA 18640\, United States
CATEGORIES:Music at Rikasa,The Joint 53
END:VEVENT
BEGIN:VEVENT
DTSTART;TZID=UTC:20240316T200000
DTEND;TZID=UTC:20240316T230000
DTSTAMP:20260421T151220
CREATED:20240226T215522Z
LAST-MODIFIED:20240226T215522Z
UID:1884-1710619200-1710630000@www.rikasarestaurant.com
SUMMARY:Live Music at Rikasa - Phyllis Hopkins
DESCRIPTION:Join us for Live Music in our Speakeasy – Joint 53
URL:https://www.rikasarestaurant.com/events/live-music-at-rikasa-phyllis-hopkins/
LOCATION:PA
CATEGORIES:Music at Rikasa,The Joint 53
END:VEVENT
BEGIN:VEVENT
DTSTART;TZID=UTC:20240319T180000
DTEND;TZID=UTC:20240319T210000
DTSTAMP:20260421T151220
CREATED:20240226T221819Z
LAST-MODIFIED:20240226T221819Z
UID:1897-1710871200-1710882000@www.rikasarestaurant.com
SUMMARY:Gather & Graze
DESCRIPTION:Join us for Gather & Graze\, an event where you and your friends can build your own charcuterie board! If you love meats and cheese then this event is surely for you! This event includes a pitcher of sangria for groups 2-4 people! Must be 21+ to attend this event! \nThis event is on March 5th and March 19th: 6pm-9pm both days! \nTicket is $55.80 per person includes the building of your board\, sangria\, tax & gratuity! \nCall: 570-362-7777 to reserve your spots! Reservations are required for this event!
URL:https://www.rikasarestaurant.com/events/gather-graze-2/
LOCATION:PA
CATEGORIES:Rikasa Restaurant,Room 53
ATTACH;FMTTYPE=image/jpeg:https://www.rikasarestaurant.com/wp-content/uploads/2024/02/GATHER-AND-GRAZE-RIKASA-.jpg
END:VEVENT
BEGIN:VEVENT
DTSTART;TZID=UTC:20240320T170000
DTEND;TZID=UTC:20240320T203000
DTSTAMP:20260421T151220
CREATED:20240226T221231Z
LAST-MODIFIED:20240226T221231Z
UID:1894-1710954000-1710966600@www.rikasarestaurant.com
SUMMARY:Wine & Pasta Wednesday
DESCRIPTION:Every Wednesday on the first floor and rooftop! Enjoy half portions of pasta for half the price\, and any house classic wine for $6 a glass! \nCLICK HERE FOR MENU!
URL:https://www.rikasarestaurant.com/events/wine-pasta-wednesday-8/
LOCATION:PA
CATEGORIES:Rikasa Restaurant,Roof Top 53
ATTACH;FMTTYPE=application/pdf:https://www.rikasarestaurant.com/wp-content/uploads/2024/01/rikasa-pasta-wednesday.pdf
END:VEVENT
BEGIN:VEVENT
DTSTART;TZID=UTC:20240322T200000
DTEND;TZID=UTC:20240322T220000
DTSTAMP:20260421T151220
CREATED:20240226T220429Z
LAST-MODIFIED:20240226T220429Z
UID:1885-1711137600-1711144800@www.rikasarestaurant.com
SUMMARY:Live Music at Rikasa - Joe Michaels Trio
DESCRIPTION:Join us for Live Music in our Speakeasy – Joint 53
URL:https://www.rikasarestaurant.com/events/live-music-at-rikasa-joe-michaels-trio-8/
LOCATION:The Joint 53\, 53 South Main Street\, Pittston\, PA\, PA 18640\, United States
CATEGORIES:Music at Rikasa,The Joint 53
END:VEVENT
BEGIN:VEVENT
DTSTART;TZID=UTC:20240323T190000
DTEND;TZID=UTC:20240323T210000
DTSTAMP:20260421T151220
CREATED:20240207T235037Z
LAST-MODIFIED:20240207T235037Z
UID:1875-1711220400-1711227600@www.rikasarestaurant.com
SUMMARY:Burlesque Dinner Show
DESCRIPTION:Expect fun\, feathers and fabulous costumes as we are entertained by specialty artistes\, cabaret and circus stars\, comedians and champagne showgirls! It’s the perfect night for everyone. An Evening of Burlesque is filled with artistic spectacle that has enraptured audiences for centuries. 5 Course Dinner \, Burlesque Show\, Tax and Gratuity is all included in ticket price! \n\n\n\nBUY TICKETS NOW \nSell tickets online with Ticketleap
URL:https://www.rikasarestaurant.com/events/burlesque-dinner-show-2/
LOCATION:Rikasa Restaurant\, 53 South Main Street\, Pittston\, PA\, 18640\, United States
CATEGORIES:Rikasa Restaurant,Room 53
ATTACH;FMTTYPE=image/png:https://www.rikasarestaurant.com/wp-content/uploads/2024/02/rikasa-burlesque-2024.png
END:VEVENT
BEGIN:VEVENT
DTSTART;TZID=UTC:20240323T190000
DTEND;TZID=UTC:20240323T220000
DTSTAMP:20260421T151220
CREATED:20240226T220527Z
LAST-MODIFIED:20240226T220527Z
UID:1886-1711220400-1711231200@www.rikasarestaurant.com
SUMMARY:Live Music at Rikasa - The Frost Duo
DESCRIPTION:Join us for Live Music on our Rooftop!
URL:https://www.rikasarestaurant.com/events/live-music-at-rikasa-the-frost-duo-3/
LOCATION:PA
CATEGORIES:Music at Rikasa,The Joint 53
END:VEVENT
BEGIN:VEVENT
DTSTART;TZID=America/New_York:20240325T180000
DTEND;TZID=America/New_York:20240325T210000
DTSTAMP:20260421T151220
CREATED:20240302T011228Z
LAST-MODIFIED:20240302T011228Z
UID:1909-1711389600-1711400400@www.rikasarestaurant.com
SUMMARY:Women Empowerment
DESCRIPTION:Ladies\, this one is for YOU! \nJoin us on our rooftop for a cocktail party celebrating feminine energy! Business Women\, Entrepreneurs\, Boss Ladies\, Empowering Women! \nIf you’re a girls girl\, this event is one you don’t want to miss! Come sip & mingle with ladies from across the Wyoming Valley while enjoying appetizers and cocktails! \n$56 per person includes apps\, sangria\, tax\, & gratuity! \nReady to sign up? Give us a call at 570-362-7777
URL:https://www.rikasarestaurant.com/events/women-empowerment/
LOCATION:Roof Top 53
CATEGORIES:Rikasa Restaurant,Roof Top 53
ATTACH;FMTTYPE=application/pdf:https://www.rikasarestaurant.com/wp-content/uploads/2024/03/Rikasa-Women-Empower.pdf
END:VEVENT
BEGIN:VEVENT
DTSTART;TZID=UTC:20240327T170000
DTEND;TZID=UTC:20240327T203000
DTSTAMP:20260421T151220
CREATED:20240226T221302Z
LAST-MODIFIED:20240226T221302Z
UID:1895-1711558800-1711571400@www.rikasarestaurant.com
SUMMARY:Wine & Pasta Wednesday
DESCRIPTION:Every Wednesday on the first floor and rooftop! Enjoy half portions of pasta for half the price\, and any house classic wine for $6 a glass! \nCLICK HERE FOR MENU!
URL:https://www.rikasarestaurant.com/events/wine-pasta-wednesday-9/
LOCATION:PA
CATEGORIES:Rikasa Restaurant,Roof Top 53
ATTACH;FMTTYPE=application/pdf:https://www.rikasarestaurant.com/wp-content/uploads/2024/01/rikasa-pasta-wednesday.pdf
END:VEVENT
BEGIN:VEVENT
DTSTART;TZID=UTC:20240329T200000
DTEND;TZID=UTC:20240329T220000
DTSTAMP:20260421T151220
CREATED:20240226T220731Z
LAST-MODIFIED:20240226T220731Z
UID:1887-1711742400-1711749600@www.rikasarestaurant.com
SUMMARY:Live Music at Rikasa - Mark Nolan Jazz Duo
DESCRIPTION:Join us for Live Music in our Speakeasy – Joint 53
URL:https://www.rikasarestaurant.com/events/live-music-at-rikasa-mark-nolan-jazz-duo-2/
LOCATION:The Joint 53\, 53 South Main Street\, Pittston\, PA\, PA 18640\, United States
CATEGORIES:Music at Rikasa,The Joint 53
END:VEVENT
BEGIN:VEVENT
DTSTART;TZID=UTC:20240330T200000
DTEND;TZID=UTC:20240330T230000
DTSTAMP:20260421T151220
CREATED:20240226T220807Z
LAST-MODIFIED:20240226T220807Z
UID:1888-1711828800-1711839600@www.rikasarestaurant.com
SUMMARY:Live Music at Rikasa - Achilles Heart
DESCRIPTION:Join us for Live Music in our Speakeasy – Joint 53
URL:https://www.rikasarestaurant.com/events/live-music-at-rikasa-achilles-heart-2/
LOCATION:PA
CATEGORIES:Music at Rikasa,The Joint 53
END:VEVENT
END:VCALENDAR