BEGIN:VCALENDAR
VERSION:2.0
PRODID:-//Rikasa Restaurant - ECPv6.15.15//NONSGML v1.0//EN
CALSCALE:GREGORIAN
METHOD:PUBLISH
X-WR-CALNAME:Rikasa Restaurant
X-ORIGINAL-URL:https://www.rikasarestaurant.com
X-WR-CALDESC:Events for Rikasa Restaurant
REFRESH-INTERVAL;VALUE=DURATION:PT1H
X-Robots-Tag:noindex
X-PUBLISHED-TTL:PT1H
BEGIN:VTIMEZONE
TZID:UTC
BEGIN:STANDARD
TZOFFSETFROM:+0000
TZOFFSETTO:+0000
TZNAME:UTC
DTSTART:20230101T000000
END:STANDARD
END:VTIMEZONE
BEGIN:VEVENT
DTSTART;TZID=UTC:20240105T200000
DTEND;TZID=UTC:20240105T220000
DTSTAMP:20260421T114126
CREATED:20231228T222214Z
LAST-MODIFIED:20231228T222214Z
UID:1814-1704484800-1704492000@www.rikasarestaurant.com
SUMMARY:Live Music at Rikasa - Joe Michaels Trio
DESCRIPTION:Join us for Live Music in our Speakeasy – Joint 53
URL:https://www.rikasarestaurant.com/events/live-music-at-rikasa-joe-michaels-trio-7/
CATEGORIES:Music at Rikasa,The Joint 53
END:VEVENT
BEGIN:VEVENT
DTSTART;TZID=UTC:20240106T200000
DTEND;TZID=UTC:20240106T230000
DTSTAMP:20260421T114126
CREATED:20231228T222251Z
LAST-MODIFIED:20231228T222251Z
UID:1815-1704571200-1704582000@www.rikasarestaurant.com
SUMMARY:Live Music at Rikasa - Achilles Heart
DESCRIPTION:Join us for Live Music in our Speakeasy – Joint 53
URL:https://www.rikasarestaurant.com/events/live-music-at-rikasa-achilles-heart/
CATEGORIES:Music at Rikasa,The Joint 53
END:VEVENT
BEGIN:VEVENT
DTSTART;TZID=UTC:20240112T200000
DTEND;TZID=UTC:20240112T220000
DTSTAMP:20260421T114126
CREATED:20231228T222402Z
LAST-MODIFIED:20231228T222402Z
UID:1816-1705089600-1705096800@www.rikasarestaurant.com
SUMMARY:Live Music at Rikasa - South Side Five
DESCRIPTION:Join us for Live Music in our Speakeasy – Joint 53
URL:https://www.rikasarestaurant.com/events/live-music-at-rikasa-south-side-five-5/
CATEGORIES:Music at Rikasa,The Joint 53
END:VEVENT
BEGIN:VEVENT
DTSTART;TZID=UTC:20240113T200000
DTEND;TZID=UTC:20240113T230000
DTSTAMP:20260421T114126
CREATED:20231228T222443Z
LAST-MODIFIED:20231228T222443Z
UID:1817-1705176000-1705186800@www.rikasarestaurant.com
SUMMARY:Live Music at Rikasa - Autumn Falls Entertainment
DESCRIPTION:Join us for Live Music in our Speakeasy – Joint 53
URL:https://www.rikasarestaurant.com/events/live-music-at-rikasa-autumn-falls-entertainment/
CATEGORIES:Music at Rikasa,The Joint 53
END:VEVENT
BEGIN:VEVENT
DTSTART;TZID=UTC:20240119T200000
DTEND;TZID=UTC:20240119T230000
DTSTAMP:20260421T114126
CREATED:20231228T222540Z
LAST-MODIFIED:20231228T222540Z
UID:1818-1705694400-1705705200@www.rikasarestaurant.com
SUMMARY:Live Music at Rikasa - Clarence Spady Electric Trio
DESCRIPTION:Join us for Live Music in our Speakeasy – Joint 53
URL:https://www.rikasarestaurant.com/events/live-music-at-rikasa-clarence-spady-electric-trio/
CATEGORIES:Music at Rikasa,The Joint 53
END:VEVENT
BEGIN:VEVENT
DTSTART;TZID=UTC:20240120T200000
DTEND;TZID=UTC:20240120T230000
DTSTAMP:20260421T114126
CREATED:20231228T222804Z
LAST-MODIFIED:20231228T222804Z
UID:1819-1705780800-1705791600@www.rikasarestaurant.com
SUMMARY:Live Music at Rikasa - Phyllis Hopkins Electric Trio
DESCRIPTION:Join us for Live Music in our Speakeasy – Joint 53
URL:https://www.rikasarestaurant.com/events/live-music-at-rikasa-phyllis-hopkins-electric-trio-4/
CATEGORIES:Music at Rikasa,The Joint 53
END:VEVENT
BEGIN:VEVENT
DTSTART;TZID=UTC:20240124T170000
DTEND;TZID=UTC:20240124T203000
DTSTAMP:20260421T114126
CREATED:20240122T224046Z
LAST-MODIFIED:20240122T224046Z
UID:1861-1706115600-1706128200@www.rikasarestaurant.com
SUMMARY:Wine & Pasta Wednesday
DESCRIPTION:Every Wednesday on the first floor and rooftop! Enjoy half portions of pasta for half the price\, and any house classic wine for $6 a glass! \nCLICK HERE FOR MENU!
URL:https://www.rikasarestaurant.com/events/wine-pasta-wednesday/
CATEGORIES:Rikasa Restaurant,Roof Top 53
ATTACH;FMTTYPE=application/pdf:https://www.rikasarestaurant.com/wp-content/uploads/2024/01/rikasa-pasta-wednesday.pdf
END:VEVENT
BEGIN:VEVENT
DTSTART;TZID=UTC:20240126T200000
DTEND;TZID=UTC:20240126T220000
DTSTAMP:20260421T114126
CREATED:20231228T222937Z
LAST-MODIFIED:20231228T222937Z
UID:1820-1706299200-1706306400@www.rikasarestaurant.com
SUMMARY:Live Music at Rikasa - Mark Nolan Jazz Duo
DESCRIPTION:Join us for Live Music in our Speakeasy – Joint 53
URL:https://www.rikasarestaurant.com/events/live-music-at-rikasa-mark-nolan-jazz-duo/
CATEGORIES:Music at Rikasa,The Joint 53
END:VEVENT
BEGIN:VEVENT
DTSTART;TZID=UTC:20240127T200000
DTEND;TZID=UTC:20240127T230000
DTSTAMP:20260421T114126
CREATED:20231228T223029Z
LAST-MODIFIED:20231228T223029Z
UID:1821-1706385600-1706396400@www.rikasarestaurant.com
SUMMARY:Live Music at Rikasa - The Frost Duo
DESCRIPTION:Join us for Live Music in our Speakeasy – Joint 53
URL:https://www.rikasarestaurant.com/events/live-music-at-rikasa-the-frost-duo/
CATEGORIES:Music at Rikasa,The Joint 53
END:VEVENT
BEGIN:VEVENT
DTSTART;TZID=UTC:20240130T180000
DTEND;TZID=UTC:20240130T210000
DTSTAMP:20260421T114126
CREATED:20240104T213059Z
LAST-MODIFIED:20240104T213059Z
UID:1825-1706637600-1706648400@www.rikasarestaurant.com
SUMMARY:Wild Game Dinner
DESCRIPTION:Rikasa is hosting a Wild Game Dinner on our rooftop! This is a 4 course meal prepared for you by our Executive Chef John “Wookie” Carey and his sous Chef Dillon Kashula. $76.80 per person includes the dinner\, tax\, and gratuity. *Alcohol is not included* \nBuy Your Tickets Here: \n\nBUY TICKETS NOW \nSell tickets online with Ticketleap
URL:https://www.rikasarestaurant.com/events/wild-game-dinner/
LOCATION:Rikasa Restaurant\, 53 South Main Street\, Pittston\, PA\, 18640\, United States
CATEGORIES:Rikasa Restaurant,Roof Top 53
ATTACH;FMTTYPE=image/jpeg:https://www.rikasarestaurant.com/wp-content/uploads/2024/01/Rikasa-WGD-2024-2.jpg
END:VEVENT
BEGIN:VEVENT
DTSTART;TZID=UTC:20240131T170000
DTEND;TZID=UTC:20240131T203000
DTSTAMP:20260421T114126
CREATED:20240122T224351Z
LAST-MODIFIED:20240122T224351Z
UID:1864-1706720400-1706733000@www.rikasarestaurant.com
SUMMARY:Wine & Pasta Wednesday
DESCRIPTION:Every Wednesday on the first floor and rooftop! Enjoy half portions of pasta for half the price\, and any house classic wine for $6 a glass! \nCLICK HERE FOR MENU!
URL:https://www.rikasarestaurant.com/events/wine-pasta-wednesday-2/
CATEGORIES:Rikasa Restaurant,Roof Top 53
ATTACH;FMTTYPE=application/pdf:https://www.rikasarestaurant.com/wp-content/uploads/2024/01/rikasa-pasta-wednesday.pdf
END:VEVENT
BEGIN:VEVENT
DTSTART;TZID=UTC:20240202T170000
DTEND;TZID=UTC:20240202T220000
DTSTAMP:20260421T114126
CREATED:20240122T190736Z
LAST-MODIFIED:20240122T190736Z
UID:1846-1706893200-1706911200@www.rikasarestaurant.com
SUMMARY:Moulin Rouge Pop-Up
DESCRIPTION:Here we go ladies!  Rikasa is turning The Joint into Moulin Rouge pop up! Our team has been working hard to put this to life for all of you! Specialty Cocktails\, Small Plates\, & Photo Ops! Moulin Rouge will be open starting February 2nd! Thursday 5pm-9pm\, Friday 5pm-10pm\, Saturday 5pm-11pm! If you dine with us you get in for FREE!\nReservations are very strongly recommended! Call today! 570-362-7777\n\nThere is a non refundable fee to enter the Pop-up!\nGroups 1-4: $10\nGroups 5-8: $20\nGroups 9-12: $30\nGroups 13+: $50
URL:https://www.rikasarestaurant.com/events/moulin-rouge-pop-up/
LOCATION:The Joint 53\, 53 South Main Street\, Pittston\, PA\, PA 18640\, United States
CATEGORIES:Rikasa Restaurant,The Joint 53
ATTACH;FMTTYPE=image/jpeg:https://www.rikasarestaurant.com/wp-content/uploads/2024/01/rikasaonmain-pop-up-joint.jpg
END:VEVENT
BEGIN:VEVENT
DTSTART;TZID=UTC:20240202T200000
DTEND;TZID=UTC:20240202T220000
DTSTAMP:20260421T114126
CREATED:20240115T214903Z
LAST-MODIFIED:20240115T214903Z
UID:1835-1706904000-1706911200@www.rikasarestaurant.com
SUMMARY:Live Music at Rikasa - Michelle Oram Group
DESCRIPTION:Join us for Live Music in our Speakeasy – Joint 53
URL:https://www.rikasarestaurant.com/events/live-music-at-rikasa-michelle-oram-group-2/
CATEGORIES:Music at Rikasa,The Joint 53
END:VEVENT
BEGIN:VEVENT
DTSTART;TZID=UTC:20240203T170000
DTEND;TZID=UTC:20240203T230000
DTSTAMP:20260421T114126
CREATED:20240122T190820Z
LAST-MODIFIED:20240122T190820Z
UID:1848-1706979600-1707001200@www.rikasarestaurant.com
SUMMARY:Moulin Rouge Pop-Up
DESCRIPTION:Here we go ladies!  Rikasa is turning The Joint into Moulin Rouge pop up! Our team has been working hard to put this to life for all of you! Specialty Cocktails\, Small Plates\, & Photo Ops! Moulin Rouge will be open starting February 2nd! Thursday 5pm-9pm\, Friday 5pm-10pm\, Saturday 5pm-11pm! If you dine with us you get in for FREE!\nReservations are very strongly recommended! Call today! 570-362-7777\n\nThere is a non refundable fee to enter the Pop-up!\nGroups 1-4: $10\nGroups 5-8: $20\nGroups 9-12: $30\nGroups 13+: $50
URL:https://www.rikasarestaurant.com/events/moulin-rouge-pop-up-2/
LOCATION:The Joint 53\, 53 South Main Street\, Pittston\, PA\, PA 18640\, United States
CATEGORIES:Rikasa Restaurant,The Joint 53
ATTACH;FMTTYPE=image/jpeg:https://www.rikasarestaurant.com/wp-content/uploads/2024/01/rikasaonmain-pop-up-joint.jpg
END:VEVENT
BEGIN:VEVENT
DTSTART;TZID=UTC:20240203T200000
DTEND;TZID=UTC:20240203T230000
DTSTAMP:20260421T114126
CREATED:20240115T214940Z
LAST-MODIFIED:20240115T214940Z
UID:1836-1706990400-1707001200@www.rikasarestaurant.com
SUMMARY:Live Music at Rikasa - Eddie Appnel
DESCRIPTION:Join us for Live Music in our Speakeasy – Joint 53
URL:https://www.rikasarestaurant.com/events/live-music-at-rikasa-eddie-appnel/
CATEGORIES:Music at Rikasa,The Joint 53
END:VEVENT
BEGIN:VEVENT
DTSTART;TZID=UTC:20240207T170000
DTEND;TZID=UTC:20240207T203000
DTSTAMP:20260421T114126
CREATED:20240122T224442Z
LAST-MODIFIED:20240122T224442Z
UID:1865-1707325200-1707337800@www.rikasarestaurant.com
SUMMARY:Wine & Pasta Wednesday
DESCRIPTION:Every Wednesday on the first floor and rooftop! Enjoy half portions of pasta for half the price\, and any house classic wine for $6 a glass! \nCLICK HERE FOR MENU!
URL:https://www.rikasarestaurant.com/events/wine-pasta-wednesday-3/
CATEGORIES:Rikasa Restaurant,Roof Top 53
ATTACH;FMTTYPE=application/pdf:https://www.rikasarestaurant.com/wp-content/uploads/2024/01/rikasa-pasta-wednesday.pdf
END:VEVENT
BEGIN:VEVENT
DTSTART;TZID=UTC:20240208T170000
DTEND;TZID=UTC:20240208T210000
DTSTAMP:20260421T114126
CREATED:20240122T191000Z
LAST-MODIFIED:20240122T191000Z
UID:1849-1707411600-1707426000@www.rikasarestaurant.com
SUMMARY:Moulin Rouge Pop-Up
DESCRIPTION:Here we go ladies!  Rikasa is turning The Joint into Moulin Rouge pop up! Our team has been working hard to put this to life for all of you! Specialty Cocktails\, Small Plates\, & Photo Ops! Moulin Rouge will be open starting February 2nd! Thursday 5pm-9pm\, Friday 5pm-10pm\, Saturday 5pm-11pm! If you dine with us you get in for FREE!\nReservations are very strongly recommended! Call today! 570-362-7777\n\nThere is a non refundable fee to enter the Pop-up!\nGroups 1-4: $10\nGroups 5-8: $20\nGroups 9-12: $30\nGroups 13+: $50
URL:https://www.rikasarestaurant.com/events/moulin-rouge-pop-up-3/
LOCATION:The Joint 53\, 53 South Main Street\, Pittston\, PA\, PA 18640\, United States
CATEGORIES:Rikasa Restaurant,The Joint 53
ATTACH;FMTTYPE=image/jpeg:https://www.rikasarestaurant.com/wp-content/uploads/2024/01/rikasaonmain-pop-up-joint.jpg
END:VEVENT
BEGIN:VEVENT
DTSTART;TZID=UTC:20240209T170000
DTEND;TZID=UTC:20240209T220000
DTSTAMP:20260421T114126
CREATED:20240122T191110Z
LAST-MODIFIED:20240122T191110Z
UID:1850-1707498000-1707516000@www.rikasarestaurant.com
SUMMARY:Moulin Rouge Pop-Up
DESCRIPTION:Here we go ladies!  Rikasa is turning The Joint into Moulin Rouge pop up! Our team has been working hard to put this to life for all of you! Specialty Cocktails\, Small Plates\, & Photo Ops! Moulin Rouge will be open starting February 2nd! Thursday 5pm-9pm\, Friday 5pm-10pm\, Saturday 5pm-11pm! If you dine with us you get in for FREE!\nReservations are very strongly recommended! Call today! 570-362-7777\n\nThere is a non refundable fee to enter the Pop-up!\nGroups 1-4: $10\nGroups 5-8: $20\nGroups 9-12: $30\nGroups 13+: $50
URL:https://www.rikasarestaurant.com/events/moulin-rouge-pop-up-4/
LOCATION:The Joint 53\, 53 South Main Street\, Pittston\, PA\, PA 18640\, United States
CATEGORIES:Rikasa Restaurant,The Joint 53
ATTACH;FMTTYPE=image/jpeg:https://www.rikasarestaurant.com/wp-content/uploads/2024/01/rikasaonmain-pop-up-joint.jpg
END:VEVENT
BEGIN:VEVENT
DTSTART;TZID=UTC:20240209T200000
DTEND;TZID=UTC:20240209T220000
DTSTAMP:20260421T114126
CREATED:20240115T215021Z
LAST-MODIFIED:20240115T215021Z
UID:1837-1707508800-1707516000@www.rikasarestaurant.com
SUMMARY:Live Music at Rikasa - South Side Five
DESCRIPTION:Join us for Live Music in our Speakeasy – Joint 53
URL:https://www.rikasarestaurant.com/events/live-music-at-rikasa-south-side-five-6/
CATEGORIES:Music at Rikasa,The Joint 53
END:VEVENT
BEGIN:VEVENT
DTSTART;TZID=UTC:20240210T170000
DTEND;TZID=UTC:20240210T230000
DTSTAMP:20260421T114126
CREATED:20240122T191148Z
LAST-MODIFIED:20240122T191148Z
UID:1851-1707584400-1707606000@www.rikasarestaurant.com
SUMMARY:Moulin Rouge Pop-Up
DESCRIPTION:Here we go ladies!  Rikasa is turning The Joint into Moulin Rouge pop up! Our team has been working hard to put this to life for all of you! Specialty Cocktails\, Small Plates\, & Photo Ops! Moulin Rouge will be open starting February 2nd! Thursday 5pm-9pm\, Friday 5pm-10pm\, Saturday 5pm-11pm! If you dine with us you get in for FREE!\nReservations are very strongly recommended! Call today! 570-362-7777\n\nThere is a non refundable fee to enter the Pop-up!\nGroups 1-4: $10\nGroups 5-8: $20\nGroups 9-12: $30\nGroups 13+: $50
URL:https://www.rikasarestaurant.com/events/moulin-rouge-pop-up-5/
LOCATION:The Joint 53\, 53 South Main Street\, Pittston\, PA\, PA 18640\, United States
CATEGORIES:Rikasa Restaurant,The Joint 53
ATTACH;FMTTYPE=image/jpeg:https://www.rikasarestaurant.com/wp-content/uploads/2024/01/rikasaonmain-pop-up-joint.jpg
END:VEVENT
BEGIN:VEVENT
DTSTART;TZID=UTC:20240210T200000
DTEND;TZID=UTC:20240210T230000
DTSTAMP:20260421T114126
CREATED:20240115T215157Z
LAST-MODIFIED:20240115T215157Z
UID:1838-1707595200-1707606000@www.rikasarestaurant.com
SUMMARY:Live Music at Rikasa - The Frost Duo
DESCRIPTION:Join us for Live Music in our Speakeasy – Joint 53
URL:https://www.rikasarestaurant.com/events/live-music-at-rikasa-the-frost-duo-2/
CATEGORIES:Music at Rikasa,The Joint 53
END:VEVENT
BEGIN:VEVENT
DTSTART;TZID=UTC:20240214T170000
DTEND;TZID=UTC:20240214T210000
DTSTAMP:20260421T114126
CREATED:20240115T213823Z
LAST-MODIFIED:20240115T213823Z
UID:1830-1707930000-1707944400@www.rikasarestaurant.com
SUMMARY:Valentines Day
DESCRIPTION:Join us on Valentines Day on one of our floors! \nMain Dining Room \nRoom53 \nRooftop53 \n5pm-9pm \nCLICK HERE FOR MENU!!
URL:https://www.rikasarestaurant.com/events/valentines-day/
LOCATION:Rikasa Restaurant\, 53 South Main Street\, Pittston\, PA\, 18640\, United States
CATEGORIES:Rikasa Restaurant,Roof Top 53,Room 53
ATTACH;FMTTYPE=application/pdf:https://www.rikasarestaurant.com/wp-content/uploads/2024/01/rikasa-vday-flowers.pdf
END:VEVENT
BEGIN:VEVENT
DTSTART;TZID=UTC:20240215T170000
DTEND;TZID=UTC:20240215T210000
DTSTAMP:20260421T114126
CREATED:20240122T191221Z
LAST-MODIFIED:20240122T191221Z
UID:1852-1708016400-1708030800@www.rikasarestaurant.com
SUMMARY:Moulin Rouge Pop-Up
DESCRIPTION:Here we go ladies!  Rikasa is turning The Joint into Moulin Rouge pop up! Our team has been working hard to put this to life for all of you! Specialty Cocktails\, Small Plates\, & Photo Ops! Moulin Rouge will be open starting February 2nd! Thursday 5pm-9pm\, Friday 5pm-10pm\, Saturday 5pm-11pm! If you dine with us you get in for FREE!\nReservations are very strongly recommended! Call today! 570-362-7777\n\nThere is a non refundable fee to enter the Pop-up!\nGroups 1-4: $10\nGroups 5-8: $20\nGroups 9-12: $30\nGroups 13+: $50
URL:https://www.rikasarestaurant.com/events/moulin-rouge-pop-up-6/
LOCATION:The Joint 53\, 53 South Main Street\, Pittston\, PA\, PA 18640\, United States
CATEGORIES:Rikasa Restaurant,The Joint 53
ATTACH;FMTTYPE=image/jpeg:https://www.rikasarestaurant.com/wp-content/uploads/2024/01/rikasaonmain-pop-up-joint.jpg
END:VEVENT
BEGIN:VEVENT
DTSTART;TZID=UTC:20240216T170000
DTEND;TZID=UTC:20240216T220000
DTSTAMP:20260421T114126
CREATED:20240122T191254Z
LAST-MODIFIED:20240122T191254Z
UID:1853-1708102800-1708120800@www.rikasarestaurant.com
SUMMARY:Moulin Rouge Pop-Up
DESCRIPTION:Here we go ladies!  Rikasa is turning The Joint into Moulin Rouge pop up! Our team has been working hard to put this to life for all of you! Specialty Cocktails\, Small Plates\, & Photo Ops! Moulin Rouge will be open starting February 2nd! Thursday 5pm-9pm\, Friday 5pm-10pm\, Saturday 5pm-11pm! If you dine with us you get in for FREE!\nReservations are very strongly recommended! Call today! 570-362-7777\n\nThere is a non refundable fee to enter the Pop-up!\nGroups 1-4: $10\nGroups 5-8: $20\nGroups 9-12: $30\nGroups 13+: $50
URL:https://www.rikasarestaurant.com/events/moulin-rouge-pop-up-7/
LOCATION:The Joint 53\, 53 South Main Street\, Pittston\, PA\, PA 18640\, United States
CATEGORIES:Rikasa Restaurant,The Joint 53
ATTACH;FMTTYPE=image/jpeg:https://www.rikasarestaurant.com/wp-content/uploads/2024/01/rikasaonmain-pop-up-joint.jpg
END:VEVENT
BEGIN:VEVENT
DTSTART;TZID=UTC:20240216T200000
DTEND;TZID=UTC:20240216T220000
DTSTAMP:20260421T114126
CREATED:20240115T215408Z
LAST-MODIFIED:20240115T215408Z
UID:1839-1708113600-1708120800@www.rikasarestaurant.com
SUMMARY:Live Music at Rikasa - Lush Life Ensemble
DESCRIPTION:Join us for Live Music in our Speakeasy – Joint 53
URL:https://www.rikasarestaurant.com/events/live-music-at-rikasa-lush-life-ensemble-4/
CATEGORIES:Music at Rikasa,The Joint 53
END:VEVENT
BEGIN:VEVENT
DTSTART;TZID=UTC:20240217T170000
DTEND;TZID=UTC:20240217T230000
DTSTAMP:20260421T114126
CREATED:20240122T191335Z
LAST-MODIFIED:20240122T191335Z
UID:1854-1708189200-1708210800@www.rikasarestaurant.com
SUMMARY:Moulin Rouge Pop-Up
DESCRIPTION:Here we go ladies!  Rikasa is turning The Joint into Moulin Rouge pop up! Our team has been working hard to put this to life for all of you! Specialty Cocktails\, Small Plates\, & Photo Ops! Moulin Rouge will be open starting February 2nd! Thursday 5pm-9pm\, Friday 5pm-10pm\, Saturday 5pm-11pm! If you dine with us you get in for FREE!\nReservations are very strongly recommended! Call today! 570-362-7777\n\nThere is a non refundable fee to enter the Pop-up!\nGroups 1-4: $10\nGroups 5-8: $20\nGroups 9-12: $30\nGroups 13+: $50
URL:https://www.rikasarestaurant.com/events/moulin-rouge-pop-up-8/
LOCATION:The Joint 53\, 53 South Main Street\, Pittston\, PA\, PA 18640\, United States
CATEGORIES:Rikasa Restaurant,The Joint 53
ATTACH;FMTTYPE=image/jpeg:https://www.rikasarestaurant.com/wp-content/uploads/2024/01/rikasaonmain-pop-up-joint.jpg
END:VEVENT
BEGIN:VEVENT
DTSTART;TZID=UTC:20240217T200000
DTEND;TZID=UTC:20240217T230000
DTSTAMP:20260421T114126
CREATED:20240115T215517Z
LAST-MODIFIED:20240115T215517Z
UID:1840-1708200000-1708210800@www.rikasarestaurant.com
SUMMARY:Live Music at Rikasa - Teddy Young
DESCRIPTION:Join us for Live Music in our Speakeasy – Joint 53
URL:https://www.rikasarestaurant.com/events/live-music-at-rikasa-teddy-young-3/
CATEGORIES:Music at Rikasa,The Joint 53
END:VEVENT
BEGIN:VEVENT
DTSTART;TZID=UTC:20240221T170000
DTEND;TZID=UTC:20240221T203000
DTSTAMP:20260421T114126
CREATED:20240122T224617Z
LAST-MODIFIED:20240122T224617Z
UID:1867-1708534800-1708547400@www.rikasarestaurant.com
SUMMARY:Wine & Pasta Wednesday
DESCRIPTION:Every Wednesday on the first floor and rooftop! Enjoy half portions of pasta for half the price\, and any house classic wine for $6 a glass! \nCLICK HERE FOR MENU!
URL:https://www.rikasarestaurant.com/events/wine-pasta-wednesday-5/
CATEGORIES:Rikasa Restaurant,Roof Top 53
ATTACH;FMTTYPE=application/pdf:https://www.rikasarestaurant.com/wp-content/uploads/2024/01/rikasa-pasta-wednesday.pdf
END:VEVENT
BEGIN:VEVENT
DTSTART;TZID=UTC:20240221T190000
DTEND;TZID=UTC:20240221T210000
DTSTAMP:20260421T114126
CREATED:20240207T190246Z
LAST-MODIFIED:20240207T190246Z
UID:1872-1708542000-1708549200@www.rikasarestaurant.com
SUMMARY:Single & Mingle: Speed Dating
DESCRIPTION:Ladies & gentleman\, if you’re single now is your time to put yourself out there and give dating another shot! 🤩\nJoin us on February 21st for Single & Mingle\, the Speed Dating event! 🏁🩷 Get the chance to meet someone new or spark an old flame! 🔥\nThis event is for men & women 25+ years of age! $25 per person admission\, light appetizers included 😋Fill out the link below to sign up!
URL:https://www.rikasarestaurant.com/events/single-mingle-speed-dating/
LOCATION:The Joint 53\, 53 South Main Street\, Pittston\, PA\, PA 18640\, United States
CATEGORIES:Rikasa Restaurant,The Joint 53
ATTACH;FMTTYPE=image/jpeg:https://www.rikasarestaurant.com/wp-content/uploads/2024/02/Soft-Pink-Minimalist-Illustration-Speed-Dating-Poster.jpg
END:VEVENT
BEGIN:VEVENT
DTSTART;TZID=UTC:20240222T170000
DTEND;TZID=UTC:20240222T210000
DTSTAMP:20260421T114126
CREATED:20240122T191434Z
LAST-MODIFIED:20240122T191434Z
UID:1855-1708621200-1708635600@www.rikasarestaurant.com
SUMMARY:Moulin Rouge Pop-Up
DESCRIPTION:Here we go ladies!  Rikasa is turning The Joint into Moulin Rouge pop up! Our team has been working hard to put this to life for all of you! Specialty Cocktails\, Small Plates\, & Photo Ops! Moulin Rouge will be open starting February 2nd! Thursday 5pm-9pm\, Friday 5pm-10pm\, Saturday 5pm-11pm! If you dine with us you get in for FREE!\nReservations are very strongly recommended! Call today! 570-362-7777\n\nThere is a non refundable fee to enter the Pop-up!\nGroups 1-4: $10\nGroups 5-8: $20\nGroups 9-12: $30\nGroups 13+: $50
URL:https://www.rikasarestaurant.com/events/moulin-rouge-pop-up-9/
LOCATION:The Joint 53\, 53 South Main Street\, Pittston\, PA\, PA 18640\, United States
CATEGORIES:Rikasa Restaurant,The Joint 53
ATTACH;FMTTYPE=image/jpeg:https://www.rikasarestaurant.com/wp-content/uploads/2024/01/rikasaonmain-pop-up-joint.jpg
END:VEVENT
END:VCALENDAR