BEGIN:VCALENDAR
VERSION:2.0
PRODID:-//Rikasa Restaurant - ECPv6.15.15//NONSGML v1.0//EN
CALSCALE:GREGORIAN
METHOD:PUBLISH
X-ORIGINAL-URL:https://www.rikasarestaurant.com
X-WR-CALDESC:Events for Rikasa Restaurant
REFRESH-INTERVAL;VALUE=DURATION:PT1H
X-Robots-Tag:noindex
X-PUBLISHED-TTL:PT1H
BEGIN:VTIMEZONE
TZID:America/New_York
BEGIN:DAYLIGHT
TZOFFSETFROM:-0500
TZOFFSETTO:-0400
TZNAME:EDT
DTSTART:20240310T070000
END:DAYLIGHT
BEGIN:STANDARD
TZOFFSETFROM:-0400
TZOFFSETTO:-0500
TZNAME:EST
DTSTART:20241103T060000
END:STANDARD
BEGIN:DAYLIGHT
TZOFFSETFROM:-0500
TZOFFSETTO:-0400
TZNAME:EDT
DTSTART:20250309T070000
END:DAYLIGHT
BEGIN:STANDARD
TZOFFSETFROM:-0400
TZOFFSETTO:-0500
TZNAME:EST
DTSTART:20251102T060000
END:STANDARD
BEGIN:DAYLIGHT
TZOFFSETFROM:-0500
TZOFFSETTO:-0400
TZNAME:EDT
DTSTART:20260308T070000
END:DAYLIGHT
BEGIN:STANDARD
TZOFFSETFROM:-0400
TZOFFSETTO:-0500
TZNAME:EST
DTSTART:20261101T060000
END:STANDARD
END:VTIMEZONE
BEGIN:VEVENT
DTSTART;TZID=America/New_York:20250816T190000
DTEND;TZID=America/New_York:20250816T220000
DTSTAMP:20260425T064741
CREATED:20250730T145027Z
LAST-MODIFIED:20250730T145027Z
UID:3934-1755370800-1755381600@www.rikasarestaurant.com
SUMMARY:Live Music at The Joint53 - JOSH & CAREY
DESCRIPTION:Join us for Live Music in our Speakeasy – Joint 53
URL:https://www.rikasarestaurant.com/events/live-music-at-the-joint53-josh-carey/
LOCATION:The Joint 53\, 53 South Main Street\, Pittston\, PA\, PA 18640\, United States
CATEGORIES:Music at Rikasa,The Joint 53
END:VEVENT
BEGIN:VEVENT
DTSTART;TZID=America/New_York:20250815T190000
DTEND;TZID=America/New_York:20250815T220000
DTSTAMP:20260425T064741
CREATED:20250730T144951Z
LAST-MODIFIED:20250730T144951Z
UID:3933-1755284400-1755295200@www.rikasarestaurant.com
SUMMARY:Live Music at The Joint53 - DUELING PIANOS
DESCRIPTION:Join us for Live Music in our Speakeasy – Joint 53
URL:https://www.rikasarestaurant.com/events/live-music-at-the-joint53-dueling-pianos-2/
LOCATION:The Joint 53\, 53 South Main Street\, Pittston\, PA\, PA 18640\, United States
CATEGORIES:Music at Rikasa,The Joint 53
END:VEVENT
BEGIN:VEVENT
DTSTART;TZID=America/New_York:20250808T200000
DTEND;TZID=America/New_York:20250808T220000
DTSTAMP:20260425T064741
CREATED:20250730T144844Z
LAST-MODIFIED:20250730T144844Z
UID:3931-1754683200-1754690400@www.rikasarestaurant.com
SUMMARY:Live Music at The Joint53 - SOUTH SIDE FIVE
DESCRIPTION:Join us for Live Music in our Speakeasy – Joint 53
URL:https://www.rikasarestaurant.com/events/live-music-at-the-joint53-south-side-five-7/
LOCATION:The Joint 53\, 53 South Main Street\, Pittston\, PA\, PA 18640\, United States
CATEGORIES:Music at Rikasa,The Joint 53
END:VEVENT
BEGIN:VEVENT
DTSTART;TZID=America/New_York:20250808T190000
DTEND;TZID=America/New_York:20250808T220000
DTSTAMP:20260425T064741
CREATED:20250730T144918Z
LAST-MODIFIED:20250730T144918Z
UID:3932-1754679600-1754690400@www.rikasarestaurant.com
SUMMARY:Live Music at The Joint53 - JOHNNY DRESSLER
DESCRIPTION:Join us for Live Music in our Speakeasy – Joint 53
URL:https://www.rikasarestaurant.com/events/live-music-at-the-joint53-johnny-dressler-2/
LOCATION:The Joint 53\, 53 South Main Street\, Pittston\, PA\, PA 18640\, United States
CATEGORIES:Music at Rikasa,The Joint 53
END:VEVENT
BEGIN:VEVENT
DTSTART;TZID=America/New_York:20250802T190000
DTEND;TZID=America/New_York:20250802T220000
DTSTAMP:20260425T064741
CREATED:20250730T144813Z
LAST-MODIFIED:20250730T144813Z
UID:3930-1754161200-1754172000@www.rikasarestaurant.com
SUMMARY:Live Music at The Joint53 - ERIN MCCLELLAND
DESCRIPTION:Join us for Live Music in our Speakeasy – Joint 53
URL:https://www.rikasarestaurant.com/events/live-music-at-the-joint53-erin-mcclelland-3/
LOCATION:The Joint 53\, 53 South Main Street\, Pittston\, PA\, PA 18640\, United States
CATEGORIES:Music at Rikasa,The Joint 53
END:VEVENT
BEGIN:VEVENT
DTSTART;TZID=America/New_York:20250801T200000
DTEND;TZID=America/New_York:20250801T220000
DTSTAMP:20260425T064741
CREATED:20250730T144741Z
LAST-MODIFIED:20250730T144741Z
UID:3929-1754078400-1754085600@www.rikasarestaurant.com
SUMMARY:Live Music at The Joint53 - DAN WILKINS TRIO
DESCRIPTION:Join us for Live Music in our Speakeasy – Joint 53
URL:https://www.rikasarestaurant.com/events/live-music-at-the-joint53-dan-wilkins-trio-2/
LOCATION:The Joint 53\, 53 South Main Street\, Pittston\, PA\, PA 18640\, United States
CATEGORIES:Music at Rikasa,The Joint 53
END:VEVENT
BEGIN:VEVENT
DTSTART;TZID=America/New_York:20250726T190000
DTEND;TZID=America/New_York:20250726T220000
DTSTAMP:20260425T064741
CREATED:20250626T230817Z
LAST-MODIFIED:20250626T230817Z
UID:3878-1753556400-1753567200@www.rikasarestaurant.com
SUMMARY:Live Music at The Joint53 - JORDAN RAMIEREZ
DESCRIPTION:Join us for Live Music in our Speakeasy – Joint 53
URL:https://www.rikasarestaurant.com/events/live-music-at-the-joint53-jordan-ramierez/
LOCATION:The Joint 53\, 53 South Main Street\, Pittston\, PA\, PA 18640\, United States
CATEGORIES:Music at Rikasa,The Joint 53
END:VEVENT
BEGIN:VEVENT
DTSTART;TZID=America/New_York:20250725T190000
DTEND;TZID=America/New_York:20250725T220000
DTSTAMP:20260425T064741
CREATED:20250626T230753Z
LAST-MODIFIED:20250626T230753Z
UID:3877-1753470000-1753480800@www.rikasarestaurant.com
SUMMARY:Live Music at The Joint53 - NEIL NECASTRO
DESCRIPTION:Join us for Live Music in our Speakeasy – Joint 53
URL:https://www.rikasarestaurant.com/events/live-music-at-the-joint53-neil-necastro/
LOCATION:The Joint 53\, 53 South Main Street\, Pittston\, PA\, PA 18640\, United States
CATEGORIES:Music at Rikasa,The Joint 53
END:VEVENT
BEGIN:VEVENT
DTSTART;TZID=America/New_York:20250719T190000
DTEND;TZID=America/New_York:20250719T220000
DTSTAMP:20260425T064741
CREATED:20250626T230723Z
LAST-MODIFIED:20250626T230723Z
UID:3876-1752951600-1752962400@www.rikasarestaurant.com
SUMMARY:Live Music at The Joint53 -PHYLLIS HOPKINS ELECTRIC TRIO
DESCRIPTION:Join us for Live Music in our Speakeasy – Joint 53
URL:https://www.rikasarestaurant.com/events/live-music-at-the-joint53-phyllis-hopkins-electric-trio-5/
LOCATION:The Joint 53\, 53 South Main Street\, Pittston\, PA\, PA 18640\, United States
CATEGORIES:Music at Rikasa,The Joint 53
END:VEVENT
BEGIN:VEVENT
DTSTART;TZID=America/New_York:20250718T200000
DTEND;TZID=America/New_York:20250718T220000
DTSTAMP:20260425T064741
CREATED:20250626T230536Z
LAST-MODIFIED:20250626T230536Z
UID:3875-1752868800-1752876000@www.rikasarestaurant.com
SUMMARY:Live Music at The Joint53 - LUSH LIFE ENSEMBLE
DESCRIPTION:Join us for Live Music in our Speakeasy – Joint 53
URL:https://www.rikasarestaurant.com/events/live-music-at-the-joint53-lush-life-ensemble-3/
LOCATION:The Joint 53\, 53 South Main Street\, Pittston\, PA\, PA 18640\, United States
CATEGORIES:Music at Rikasa,The Joint 53
END:VEVENT
BEGIN:VEVENT
DTSTART;TZID=America/New_York:20250712T190000
DTEND;TZID=America/New_York:20250712T220000
DTSTAMP:20260425T064741
CREATED:20250626T230511Z
LAST-MODIFIED:20250626T230511Z
UID:3874-1752346800-1752357600@www.rikasarestaurant.com
SUMMARY:Live Music at The Joint53 - JUSTIN BRAVO & THE KIND
DESCRIPTION:Join us for Live Music in our Speakeasy – Joint 53
URL:https://www.rikasarestaurant.com/events/live-music-at-the-joint53-justin-bravo-the-kind-2/
LOCATION:The Joint 53\, 53 South Main Street\, Pittston\, PA\, PA 18640\, United States
CATEGORIES:Music at Rikasa,The Joint 53
END:VEVENT
BEGIN:VEVENT
DTSTART;TZID=America/New_York:20250711T200000
DTEND;TZID=America/New_York:20250711T220000
DTSTAMP:20260425T064741
CREATED:20250626T230440Z
LAST-MODIFIED:20250626T230440Z
UID:3873-1752264000-1752271200@www.rikasarestaurant.com
SUMMARY:Live Music at The Joint53 - SOUTH SIDE FIVE
DESCRIPTION:Join us for Live Music in our Speakeasy – Joint 53
URL:https://www.rikasarestaurant.com/events/live-music-at-the-joint53-south-side-five-6/
LOCATION:The Joint 53\, 53 South Main Street\, Pittston\, PA\, PA 18640\, United States
CATEGORIES:Music at Rikasa,The Joint 53
END:VEVENT
BEGIN:VEVENT
DTSTART;TZID=America/New_York:20250705T190000
DTEND;TZID=America/New_York:20250705T220000
DTSTAMP:20260425T064741
CREATED:20250626T230357Z
LAST-MODIFIED:20250626T230357Z
UID:3872-1751742000-1751752800@www.rikasarestaurant.com
SUMMARY:Live Music at The Joint53 - FROST DUO
DESCRIPTION:Join us for Live Music in our Speakeasy – Joint 53
URL:https://www.rikasarestaurant.com/events/live-music-at-the-joint53-frost-duo-2/
LOCATION:The Joint 53\, 53 South Main Street\, Pittston\, PA\, PA 18640\, United States
CATEGORIES:Music at Rikasa,The Joint 53
END:VEVENT
BEGIN:VEVENT
DTSTART;TZID=America/New_York:20250628T190000
DTEND;TZID=America/New_York:20250628T220000
DTSTAMP:20260425T064741
CREATED:20250430T164334Z
LAST-MODIFIED:20250430T165132Z
UID:3826-1751137200-1751148000@www.rikasarestaurant.com
SUMMARY:Live Music at The Joint53 - Erin McClelland
DESCRIPTION:Join us for Live Music in our Speakeasy – Joint 53
URL:https://www.rikasarestaurant.com/events/live-music-at-the-joint53-paul-martin-2/
LOCATION:The Joint 53\, 53 South Main Street\, Pittston\, PA\, PA 18640\, United States
CATEGORIES:Music at Rikasa,The Joint 53
END:VEVENT
BEGIN:VEVENT
DTSTART;TZID=America/New_York:20250627T190000
DTEND;TZID=America/New_York:20250627T220000
DTSTAMP:20260425T064741
CREATED:20250527T165842Z
LAST-MODIFIED:20250527T165842Z
UID:3845-1751050800-1751061600@www.rikasarestaurant.com
SUMMARY:Live Music at The Joint53 - Vierling Duo
DESCRIPTION:Join us for Live Music in our Speakeasy – Joint 53
URL:https://www.rikasarestaurant.com/events/live-music-at-the-joint53-vierling-duo/
LOCATION:The Joint 53\, 53 South Main Street\, Pittston\, PA\, PA 18640\, United States
CATEGORIES:Music at Rikasa,The Joint 53
END:VEVENT
BEGIN:VEVENT
DTSTART;TZID=America/New_York:20250621T190000
DTEND;TZID=America/New_York:20250621T220000
DTSTAMP:20260425T064741
CREATED:20250430T163317Z
LAST-MODIFIED:20250430T163317Z
UID:3825-1750532400-1750543200@www.rikasarestaurant.com
SUMMARY:Live Music at The Joint53 - Paul Martin
DESCRIPTION:Join us for Live Music in our Speakeasy – Joint 53
URL:https://www.rikasarestaurant.com/events/live-music-at-the-joint53-paul-martin/
LOCATION:The Joint 53\, 53 South Main Street\, Pittston\, PA\, PA 18640\, United States
CATEGORIES:Music at Rikasa,The Joint 53
END:VEVENT
BEGIN:VEVENT
DTSTART;TZID=America/New_York:20250620T190000
DTEND;TZID=America/New_York:20250620T220000
DTSTAMP:20260425T064741
CREATED:20250430T163158Z
LAST-MODIFIED:20250430T163158Z
UID:3824-1750446000-1750456800@www.rikasarestaurant.com
SUMMARY:Live Music at The Joint53 - Mark Montella Project
DESCRIPTION:Join us for Live Music in our Speakeasy – Joint 53
URL:https://www.rikasarestaurant.com/events/live-music-at-the-joint53-mark-montella-project-2/
LOCATION:The Joint 53\, 53 South Main Street\, Pittston\, PA\, PA 18640\, United States
CATEGORIES:Music at Rikasa,The Joint 53
END:VEVENT
BEGIN:VEVENT
DTSTART;TZID=America/New_York:20250614T190000
DTEND;TZID=America/New_York:20250614T220000
DTSTAMP:20260425T064741
CREATED:20250430T163024Z
LAST-MODIFIED:20250430T163024Z
UID:3823-1749927600-1749938400@www.rikasarestaurant.com
SUMMARY:Live Music at The Joint53 - Frost Duo
DESCRIPTION:Join us for Live Music in our Speakeasy – Joint 53
URL:https://www.rikasarestaurant.com/events/live-music-at-the-joint53-frost-duo/
LOCATION:The Joint 53\, 53 South Main Street\, Pittston\, PA\, PA 18640\, United States
CATEGORIES:Music at Rikasa,The Joint 53
END:VEVENT
BEGIN:VEVENT
DTSTART;TZID=America/New_York:20250613T200000
DTEND;TZID=America/New_York:20250613T220000
DTSTAMP:20260425T064741
CREATED:20250430T162916Z
LAST-MODIFIED:20250430T162916Z
UID:3822-1749844800-1749852000@www.rikasarestaurant.com
SUMMARY:Live Music at The Joint53 - South Side Five
DESCRIPTION:Join us for Live Music in our Speakeasy – Joint 53
URL:https://www.rikasarestaurant.com/events/live-music-at-the-joint53-south-side-five-5/
LOCATION:The Joint 53\, 53 South Main Street\, Pittston\, PA\, PA 18640\, United States
CATEGORIES:Music at Rikasa,The Joint 53
END:VEVENT
BEGIN:VEVENT
DTSTART;TZID=America/New_York:20250607T190000
DTEND;TZID=America/New_York:20250607T220000
DTSTAMP:20260425T064741
CREATED:20250430T162800Z
LAST-MODIFIED:20250430T162800Z
UID:3821-1749322800-1749333600@www.rikasarestaurant.com
SUMMARY:Live Music at The Joint53 - Walt Kosar
DESCRIPTION:Join us for Live Music in our Speakeasy – Joint 53
URL:https://www.rikasarestaurant.com/events/live-music-at-the-joint53-walt-kosar-4/
LOCATION:The Joint 53\, 53 South Main Street\, Pittston\, PA\, PA 18640\, United States
CATEGORIES:Music at Rikasa,The Joint 53
END:VEVENT
BEGIN:VEVENT
DTSTART;TZID=America/New_York:20250531T190000
DTEND;TZID=America/New_York:20250531T220000
DTSTAMP:20260425T064741
CREATED:20250430T162658Z
LAST-MODIFIED:20250430T162658Z
UID:3820-1748718000-1748728800@www.rikasarestaurant.com
SUMMARY:Live Music at The Joint53 - Johnny Dressler
DESCRIPTION:Join us for Live Music in our Speakeasy – Joint 53
URL:https://www.rikasarestaurant.com/events/live-music-at-the-joint53-johnny-dressler/
LOCATION:The Joint 53\, 53 South Main Street\, Pittston\, PA\, PA 18640\, United States
CATEGORIES:Music at Rikasa,The Joint 53
END:VEVENT
BEGIN:VEVENT
DTSTART;TZID=America/New_York:20250530T190000
DTEND;TZID=America/New_York:20250530T220000
DTSTAMP:20260425T064741
CREATED:20250430T162619Z
LAST-MODIFIED:20250430T162619Z
UID:3819-1748631600-1748642400@www.rikasarestaurant.com
SUMMARY:Live Music at The Joint53 - Erin McClelland
DESCRIPTION:Join us for Live Music in our Speakeasy – Joint 53
URL:https://www.rikasarestaurant.com/events/live-music-at-the-joint53-erin-mcclelland-2/
LOCATION:The Joint 53\, 53 South Main Street\, Pittston\, PA\, PA 18640\, United States
CATEGORIES:Music at Rikasa,The Joint 53
END:VEVENT
BEGIN:VEVENT
DTSTART;TZID=America/New_York:20250524T190000
DTEND;TZID=America/New_York:20250524T220000
DTSTAMP:20260425T064741
CREATED:20250430T162255Z
LAST-MODIFIED:20250430T162255Z
UID:3818-1748113200-1748124000@www.rikasarestaurant.com
SUMMARY:Live Music at The Joint53 - Teddy Young
DESCRIPTION:Join us for Live Music in our Speakeasy – Joint 53
URL:https://www.rikasarestaurant.com/events/live-music-at-the-joint53-teddy-young-2/
LOCATION:The Joint 53\, 53 South Main Street\, Pittston\, PA\, PA 18640\, United States
CATEGORIES:Music at Rikasa,The Joint 53
END:VEVENT
BEGIN:VEVENT
DTSTART;TZID=America/New_York:20250523T190000
DTEND;TZID=America/New_York:20250523T220000
DTSTAMP:20260425T064741
CREATED:20250430T162215Z
LAST-MODIFIED:20250430T162215Z
UID:3817-1748026800-1748037600@www.rikasarestaurant.com
SUMMARY:Live Music at The Joint53 - Husty Bros
DESCRIPTION:Join us for Live Music in our Speakeasy – Joint 53
URL:https://www.rikasarestaurant.com/events/live-music-at-the-joint53-husty-bros/
LOCATION:The Joint 53\, 53 South Main Street\, Pittston\, PA\, PA 18640\, United States
CATEGORIES:Music at Rikasa,The Joint 53
END:VEVENT
BEGIN:VEVENT
DTSTART;TZID=America/New_York:20250517T190000
DTEND;TZID=America/New_York:20250517T220000
DTSTAMP:20260425T064741
CREATED:20250430T162102Z
LAST-MODIFIED:20250430T162102Z
UID:3815-1747508400-1747519200@www.rikasarestaurant.com
SUMMARY:Live Music at The Joint53 - Dueling Pianos
DESCRIPTION: Join us TONIGHT at the Joint53 for an unforgettable experience!  Dueling Pianos with the talented Greg Reilly and Ben Yates from 7 PM – 10 PM!  \nBring your song requests and get ready to sing along to all your favorite hits! Don’t miss out on the fun—it’s going to be an epic night! 
URL:https://www.rikasarestaurant.com/events/live-music-at-the-joint53-dueling-pianos/
LOCATION:The Joint 53\, 53 South Main Street\, Pittston\, PA\, PA 18640\, United States
CATEGORIES:Music at Rikasa,The Joint 53
END:VEVENT
BEGIN:VEVENT
DTSTART;TZID=America/New_York:20250516T200000
DTEND;TZID=America/New_York:20250516T220000
DTSTAMP:20260425T064741
CREATED:20250430T161814Z
LAST-MODIFIED:20250430T161814Z
UID:3814-1747425600-1747432800@www.rikasarestaurant.com
SUMMARY:Live Music at The Joint53 - Dan Wilkins Trio
DESCRIPTION:Join us for Live Music in our Speakeasy – Joint 53
URL:https://www.rikasarestaurant.com/events/live-music-at-the-joint53-dan-wilkins-trio/
LOCATION:The Joint 53\, 53 South Main Street\, Pittston\, PA\, PA 18640\, United States
CATEGORIES:Music at Rikasa,The Joint 53
END:VEVENT
BEGIN:VEVENT
DTSTART;TZID=America/New_York:20250510T200000
DTEND;TZID=America/New_York:20250510T220000
DTSTAMP:20260425T064741
CREATED:20250430T161734Z
LAST-MODIFIED:20250430T161734Z
UID:3813-1746907200-1746914400@www.rikasarestaurant.com
SUMMARY:Live Music at The Joint53 - Dustin Douglas
DESCRIPTION:Join us for Live Music in our Speakeasy – Joint 53
URL:https://www.rikasarestaurant.com/events/live-music-at-the-joint53-dustin-douglas/
LOCATION:The Joint 53\, 53 South Main Street\, Pittston\, PA\, PA 18640\, United States
CATEGORIES:Music at Rikasa,The Joint 53
END:VEVENT
BEGIN:VEVENT
DTSTART;TZID=America/New_York:20250509T200000
DTEND;TZID=America/New_York:20250509T220000
DTSTAMP:20260425T064741
CREATED:20250430T161626Z
LAST-MODIFIED:20250430T161626Z
UID:3812-1746820800-1746828000@www.rikasarestaurant.com
SUMMARY:Live Music at The Joint53 - South Side Five
DESCRIPTION:Join us for Live Music in our Speakeasy – Joint 53
URL:https://www.rikasarestaurant.com/events/live-music-at-the-joint53-south-side-five-4/
LOCATION:The Joint 53\, 53 South Main Street\, Pittston\, PA\, PA 18640\, United States
CATEGORIES:Music at Rikasa,The Joint 53
END:VEVENT
BEGIN:VEVENT
DTSTART;TZID=America/New_York:20250503T190000
DTEND;TZID=America/New_York:20250503T220000
DTSTAMP:20260425T064741
CREATED:20250430T161545Z
LAST-MODIFIED:20250430T161545Z
UID:3811-1746298800-1746309600@www.rikasarestaurant.com
SUMMARY:Live Music at The Joint53 - Phyllis Hopkins Electric Trio
DESCRIPTION:Join us for Live Music in our Speakeasy – Joint 53
URL:https://www.rikasarestaurant.com/events/live-music-at-the-joint53-phyllis-hopkins-electric-trio-4/
LOCATION:The Joint 53\, 53 South Main Street\, Pittston\, PA\, PA 18640\, United States
CATEGORIES:Music at Rikasa,The Joint 53
END:VEVENT
BEGIN:VEVENT
DTSTART;TZID=America/New_York:20250502T200000
DTEND;TZID=America/New_York:20250502T220000
DTSTAMP:20260425T064741
CREATED:20250430T161457Z
LAST-MODIFIED:20250430T161457Z
UID:3810-1746216000-1746223200@www.rikasarestaurant.com
SUMMARY:Live Music at The Joint53 - Hot Club of Scranton
DESCRIPTION:Join us for Live Music in our Speakeasy – Joint 53
URL:https://www.rikasarestaurant.com/events/live-music-at-the-joint53-hot-club-of-scranton-2/
LOCATION:The Joint 53\, 53 South Main Street\, Pittston\, PA\, PA 18640\, United States
CATEGORIES:Music at Rikasa,The Joint 53
END:VEVENT
END:VCALENDAR