BEGIN:VCALENDAR
VERSION:2.0
PRODID:-//Rikasa Restaurant - ECPv6.15.15//NONSGML v1.0//EN
CALSCALE:GREGORIAN
METHOD:PUBLISH
X-WR-CALNAME:Rikasa Restaurant
X-ORIGINAL-URL:https://www.rikasarestaurant.com
X-WR-CALDESC:Events for Rikasa Restaurant
REFRESH-INTERVAL;VALUE=DURATION:PT1H
X-Robots-Tag:noindex
X-PUBLISHED-TTL:PT1H
BEGIN:VTIMEZONE
TZID:America/New_York
BEGIN:DAYLIGHT
TZOFFSETFROM:-0500
TZOFFSETTO:-0400
TZNAME:EDT
DTSTART:20240310T070000
END:DAYLIGHT
BEGIN:STANDARD
TZOFFSETFROM:-0400
TZOFFSETTO:-0500
TZNAME:EST
DTSTART:20241103T060000
END:STANDARD
BEGIN:DAYLIGHT
TZOFFSETFROM:-0500
TZOFFSETTO:-0400
TZNAME:EDT
DTSTART:20250309T070000
END:DAYLIGHT
BEGIN:STANDARD
TZOFFSETFROM:-0400
TZOFFSETTO:-0500
TZNAME:EST
DTSTART:20251102T060000
END:STANDARD
BEGIN:DAYLIGHT
TZOFFSETFROM:-0500
TZOFFSETTO:-0400
TZNAME:EDT
DTSTART:20260308T070000
END:DAYLIGHT
BEGIN:STANDARD
TZOFFSETFROM:-0400
TZOFFSETTO:-0500
TZNAME:EST
DTSTART:20261101T060000
END:STANDARD
END:VTIMEZONE
BEGIN:VEVENT
DTSTART;TZID=America/New_York:20251114T200000
DTEND;TZID=America/New_York:20251114T220000
DTSTAMP:20260421T053109
CREATED:20250911T172233Z
LAST-MODIFIED:20250911T172506Z
UID:3985-1763150400-1763157600@www.rikasarestaurant.com
SUMMARY:Live Music at The Joint53 - SOUTH SIDE FIVE
DESCRIPTION:Join us for Live Music in our Speakeasy – Joint 53
URL:https://www.rikasarestaurant.com/events/live-music-at-the-joint53-south-side-five-10/
LOCATION:The Joint 53\, 53 South Main Street\, Pittston\, PA\, PA 18640\, United States
CATEGORIES:Music at Rikasa,The Joint 53
END:VEVENT
BEGIN:VEVENT
DTSTART;TZID=America/New_York:20251108T190000
DTEND;TZID=America/New_York:20251108T220000
DTSTAMP:20260421T053109
CREATED:20250911T172205Z
LAST-MODIFIED:20250911T172205Z
UID:3984-1762628400-1762639200@www.rikasarestaurant.com
SUMMARY:Live Music at The Joint53 - JOSH & CASEY
DESCRIPTION:Join us for Live Music in our Speakeasy – Joint 53
URL:https://www.rikasarestaurant.com/events/live-music-at-the-joint53-josh-casey-2/
LOCATION:The Joint 53\, 53 South Main Street\, Pittston\, PA\, PA 18640\, United States
CATEGORIES:Music at Rikasa,The Joint 53
END:VEVENT
BEGIN:VEVENT
DTSTART;TZID=America/New_York:20251107T190000
DTEND;TZID=America/New_York:20251107T220000
DTSTAMP:20260421T053109
CREATED:20250911T171924Z
LAST-MODIFIED:20250911T171924Z
UID:3983-1762542000-1762552800@www.rikasarestaurant.com
SUMMARY:Live Music at The Joint53 - MARK MONTELLA PROJECT
DESCRIPTION:Join us for Live Music in our Speakeasy – Joint 53
URL:https://www.rikasarestaurant.com/events/live-music-at-the-joint53-mark-montella-project-3/
LOCATION:The Joint 53\, 53 South Main Street\, Pittston\, PA\, PA 18640\, United States
CATEGORIES:Music at Rikasa,The Joint 53
END:VEVENT
BEGIN:VEVENT
DTSTART;TZID=America/New_York:20251101T190000
DTEND;TZID=America/New_York:20251101T220000
DTSTAMP:20260421T053109
CREATED:20251008T151108Z
LAST-MODIFIED:20251008T151108Z
UID:4031-1762023600-1762034400@www.rikasarestaurant.com
SUMMARY:Live Music at The Joint53 - WALT KOSAR
DESCRIPTION:Join us for Live Music in our Speakeasy – Joint 53
URL:https://www.rikasarestaurant.com/events/live-music-at-the-joint53-walt-kosar-6/
LOCATION:The Joint 53\, 53 South Main Street\, Pittston\, PA\, PA 18640\, United States
CATEGORIES:Music at Rikasa,The Joint 53
END:VEVENT
BEGIN:VEVENT
DTSTART;TZID=America/New_York:20251031T190000
DTEND;TZID=America/New_York:20251031T220000
DTSTAMP:20260421T053109
CREATED:20251008T151215Z
LAST-MODIFIED:20251029T210432Z
UID:4033-1761937200-1761948000@www.rikasarestaurant.com
SUMMARY:No Music Tonight
DESCRIPTION:We are sorry for the inconvenience\, we will not be having live music tonight. \nJoin us tomorrow night for live music inside the Joint53!
URL:https://www.rikasarestaurant.com/events/live-music-at-the-joint53-paul-martin-4/
LOCATION:The Joint 53\, 53 South Main Street\, Pittston\, PA\, PA 18640\, United States
CATEGORIES:Music at Rikasa,The Joint 53
END:VEVENT
BEGIN:VEVENT
DTSTART;TZID=America/New_York:20251025T190000
DTEND;TZID=America/New_York:20251025T220000
DTSTAMP:20260421T053109
CREATED:20251008T151138Z
LAST-MODIFIED:20251008T151147Z
UID:4032-1761418800-1761429600@www.rikasarestaurant.com
SUMMARY:Live Music at The Joint53 - JUSTIN BRAVO & THE KIND
DESCRIPTION:Join us for Live Music in our Speakeasy – Joint 53
URL:https://www.rikasarestaurant.com/events/live-music-at-the-joint53-justin-bravo-the-kind-3/
LOCATION:The Joint 53\, 53 South Main Street\, Pittston\, PA\, PA 18640\, United States
CATEGORIES:Music at Rikasa,The Joint 53
END:VEVENT
BEGIN:VEVENT
DTSTART;TZID=America/New_York:20251024T190000
DTEND;TZID=America/New_York:20251024T220000
DTSTAMP:20260421T053109
CREATED:20250911T165724Z
LAST-MODIFIED:20250911T165724Z
UID:3982-1761332400-1761343200@www.rikasarestaurant.com
SUMMARY:Live Music at The Joint53 - HOT CLUB OF SCRANTON
DESCRIPTION:Join us for Live Music in our Speakeasy – Joint 53
URL:https://www.rikasarestaurant.com/events/live-music-at-the-joint53-hot-club-of-scranton-3/
LOCATION:The Joint 53\, 53 South Main Street\, Pittston\, PA\, PA 18640\, United States
CATEGORIES:Music at Rikasa,The Joint 53
END:VEVENT
BEGIN:VEVENT
DTSTART;TZID=America/New_York:20251018T190000
DTEND;TZID=America/New_York:20251018T220000
DTSTAMP:20260421T053109
CREATED:20250911T165659Z
LAST-MODIFIED:20250911T165659Z
UID:3981-1760814000-1760824800@www.rikasarestaurant.com
SUMMARY:Live Music at The Joint53 - JORDAN RAMIEREZ
DESCRIPTION:Join us for Live Music in our Speakeasy – Joint 53
URL:https://www.rikasarestaurant.com/events/live-music-at-the-joint53-jordan-ramierez-2/
LOCATION:The Joint 53\, 53 South Main Street\, Pittston\, PA\, PA 18640\, United States
CATEGORIES:Music at Rikasa,The Joint 53
END:VEVENT
BEGIN:VEVENT
DTSTART;TZID=America/New_York:20251017T190000
DTEND;TZID=America/New_York:20251017T220000
DTSTAMP:20260421T053109
CREATED:20250911T165632Z
LAST-MODIFIED:20250911T165632Z
UID:3980-1760727600-1760738400@www.rikasarestaurant.com
SUMMARY:Live Music at The Joint53 - NEIL NICASTRO
DESCRIPTION:Join us for Live Music in our Speakeasy – Joint 53
URL:https://www.rikasarestaurant.com/events/live-music-at-the-joint53-neil-nicastro/
LOCATION:The Joint 53\, 53 South Main Street\, Pittston\, PA\, PA 18640\, United States
CATEGORIES:Music at Rikasa,The Joint 53
END:VEVENT
BEGIN:VEVENT
DTSTART;TZID=America/New_York:20251011T190000
DTEND;TZID=America/New_York:20251011T220000
DTSTAMP:20260421T053109
CREATED:20250911T165603Z
LAST-MODIFIED:20250911T165603Z
UID:3979-1760209200-1760220000@www.rikasarestaurant.com
SUMMARY:Live Music at The Joint53 - VIERLING DUO
DESCRIPTION:Join us for Live Music in our Speakeasy – Joint 53
URL:https://www.rikasarestaurant.com/events/live-music-at-the-joint53-vierling-duo-2/
LOCATION:The Joint 53\, 53 South Main Street\, Pittston\, PA\, PA 18640\, United States
CATEGORIES:Music at Rikasa,The Joint 53
END:VEVENT
BEGIN:VEVENT
DTSTART;TZID=America/New_York:20251010T200000
DTEND;TZID=America/New_York:20251010T220000
DTSTAMP:20260421T053109
CREATED:20250911T165529Z
LAST-MODIFIED:20250911T165529Z
UID:3978-1760126400-1760133600@www.rikasarestaurant.com
SUMMARY:Live Music at The Joint53 - SOUTH SIDE FIVE
DESCRIPTION:Join us for Live Music in our Speakeasy – Joint 53
URL:https://www.rikasarestaurant.com/events/live-music-at-the-joint53-south-side-five-9/
LOCATION:The Joint 53\, 53 South Main Street\, Pittston\, PA\, PA 18640\, United States
CATEGORIES:Music at Rikasa,The Joint 53
END:VEVENT
BEGIN:VEVENT
DTSTART;TZID=America/New_York:20251004T190000
DTEND;TZID=America/New_York:20251004T220000
DTSTAMP:20260421T053109
CREATED:20250911T165236Z
LAST-MODIFIED:20250911T165236Z
UID:3977-1759604400-1759615200@www.rikasarestaurant.com
SUMMARY:Live Music at The Joint53 - ERIN MCCLELLAND
DESCRIPTION:Join us for Live Music in our Speakeasy – Joint 53
URL:https://www.rikasarestaurant.com/events/live-music-at-the-joint53-erin-mcclelland-5/
LOCATION:The Joint 53\, 53 South Main Street\, Pittston\, PA\, PA 18640\, United States
CATEGORIES:Music at Rikasa,The Joint 53
END:VEVENT
BEGIN:VEVENT
DTSTART;TZID=America/New_York:20251003T200000
DTEND;TZID=America/New_York:20251003T220000
DTSTAMP:20260421T053109
CREATED:20250911T165200Z
LAST-MODIFIED:20250911T165200Z
UID:3976-1759521600-1759528800@www.rikasarestaurant.com
SUMMARY:Live Music at The Joint53 - LUSH LIFE ENSEMBLE
DESCRIPTION:Join us for Live Music in our Speakeasy – Joint 53
URL:https://www.rikasarestaurant.com/events/live-music-at-the-joint53-lush-life-ensemble-4/
LOCATION:The Joint 53\, 53 South Main Street\, Pittston\, PA\, PA 18640\, United States
CATEGORIES:Music at Rikasa,The Joint 53
END:VEVENT
BEGIN:VEVENT
DTSTART;TZID=America/New_York:20250927T190000
DTEND;TZID=America/New_York:20250927T220000
DTSTAMP:20260421T053109
CREATED:20250906T232217Z
LAST-MODIFIED:20250906T232217Z
UID:3973-1758999600-1759010400@www.rikasarestaurant.com
SUMMARY:Live Music at The Joint53 - WALT KOSAR
DESCRIPTION:Join us for Live Music in our Speakeasy – Joint 53
URL:https://www.rikasarestaurant.com/events/live-music-at-the-joint53-walt-kosar-5/
LOCATION:The Joint 53\, 53 South Main Street\, Pittston\, PA\, PA 18640\, United States
CATEGORIES:Music at Rikasa,The Joint 53
END:VEVENT
BEGIN:VEVENT
DTSTART;TZID=America/New_York:20250926T190000
DTEND;TZID=America/New_York:20250926T220000
DTSTAMP:20260421T053109
CREATED:20250906T232154Z
LAST-MODIFIED:20250906T232154Z
UID:3972-1758913200-1758924000@www.rikasarestaurant.com
SUMMARY:Live Music at The Joint53 - COUNTY LINES
DESCRIPTION:Join us for Live Music in our Speakeasy – Joint 53
URL:https://www.rikasarestaurant.com/events/live-music-at-the-joint53-county-lines/
LOCATION:The Joint 53\, 53 South Main Street\, Pittston\, PA\, PA 18640\, United States
CATEGORIES:Music at Rikasa,The Joint 53
END:VEVENT
BEGIN:VEVENT
DTSTART;TZID=America/New_York:20250920T190000
DTEND;TZID=America/New_York:20250920T220000
DTSTAMP:20260421T053109
CREATED:20250906T231953Z
LAST-MODIFIED:20250906T231953Z
UID:3971-1758394800-1758405600@www.rikasarestaurant.com
SUMMARY:Live Music at The Joint53 - PHYLLIS HOPKINS ELECTRIC TRIO
DESCRIPTION:Join us for Live Music in our Speakeasy – Joint 53
URL:https://www.rikasarestaurant.com/events/live-music-at-the-joint53-phyllis-hopkins-electric-trio-6/
LOCATION:The Joint 53\, 53 South Main Street\, Pittston\, PA\, PA 18640\, United States
CATEGORIES:Music at Rikasa,The Joint 53
END:VEVENT
BEGIN:VEVENT
DTSTART;TZID=America/New_York:20250919T190000
DTEND;TZID=America/New_York:20250919T220000
DTSTAMP:20260421T053109
CREATED:20250906T231926Z
LAST-MODIFIED:20250906T231926Z
UID:3970-1758308400-1758319200@www.rikasarestaurant.com
SUMMARY:Live Music at The Joint53 - 2 CHICKS 1 GUITAR
DESCRIPTION:Join us for Live Music in our Speakeasy – Joint 53
URL:https://www.rikasarestaurant.com/events/live-music-at-the-joint53-2-chicks-1-guitar-2/
LOCATION:The Joint 53\, 53 South Main Street\, Pittston\, PA\, PA 18640\, United States
CATEGORIES:Music at Rikasa,The Joint 53
END:VEVENT
BEGIN:VEVENT
DTSTART;TZID=America/New_York:20250913T190000
DTEND;TZID=America/New_York:20250913T220000
DTSTAMP:20260421T053109
CREATED:20250906T231851Z
LAST-MODIFIED:20250906T232248Z
UID:3969-1757790000-1757800800@www.rikasarestaurant.com
SUMMARY:Live Music on the Rooftop - FROST DUO
DESCRIPTION:Join us for Live Music on our stunning Rooftop!
URL:https://www.rikasarestaurant.com/events/live-music-at-the-joint53-frost-duo-3/
LOCATION:The Joint 53\, 53 South Main Street\, Pittston\, PA\, PA 18640\, United States
CATEGORIES:Music at Rikasa,The Joint 53
END:VEVENT
BEGIN:VEVENT
DTSTART;TZID=America/New_York:20250912T200000
DTEND;TZID=America/New_York:20250912T220000
DTSTAMP:20260421T053109
CREATED:20250906T231047Z
LAST-MODIFIED:20250906T231047Z
UID:3968-1757707200-1757714400@www.rikasarestaurant.com
SUMMARY:Live Music at The Joint53 - SOUTH SIDE FIVE
DESCRIPTION:Join us for Live Music in our Speakeasy – Joint 53
URL:https://www.rikasarestaurant.com/events/live-music-at-the-joint53-south-side-five-8/
LOCATION:The Joint 53\, 53 South Main Street\, Pittston\, PA\, PA 18640\, United States
CATEGORIES:Music at Rikasa,The Joint 53
END:VEVENT
BEGIN:VEVENT
DTSTART;TZID=America/New_York:20250905T190000
DTEND;TZID=America/New_York:20250905T220000
DTSTAMP:20260421T053109
CREATED:20250906T230955Z
LAST-MODIFIED:20250906T230955Z
UID:3967-1757098800-1757109600@www.rikasarestaurant.com
SUMMARY:Live Music at The Joint53 - PAUL MARTIN
DESCRIPTION:Join us for Live Music in our Speakeasy – Joint 53
URL:https://www.rikasarestaurant.com/events/live-music-at-the-joint53-paul-martin-3/
LOCATION:The Joint 53\, 53 South Main Street\, Pittston\, PA\, PA 18640\, United States
CATEGORIES:Music at Rikasa,The Joint 53
END:VEVENT
BEGIN:VEVENT
DTSTART;TZID=America/New_York:20250829T190000
DTEND;TZID=America/New_York:20250829T220000
DTSTAMP:20260421T053109
CREATED:20250730T145126Z
LAST-MODIFIED:20250730T145126Z
UID:3935-1756494000-1756504800@www.rikasarestaurant.com
SUMMARY:Live Music at The Joint53 - HUSTY BROS
DESCRIPTION:Join us for Live Music in our Speakeasy – Joint 53
URL:https://www.rikasarestaurant.com/events/live-music-at-the-joint53-husty-bros-2/
LOCATION:The Joint 53\, 53 South Main Street\, Pittston\, PA\, PA 18640\, United States
CATEGORIES:Music at Rikasa,The Joint 53
END:VEVENT
BEGIN:VEVENT
DTSTART;TZID=America/New_York:20250823T190000
DTEND;TZID=America/New_York:20250823T220000
DTSTAMP:20260421T053109
CREATED:20250730T145329Z
LAST-MODIFIED:20250730T145329Z
UID:3937-1755975600-1755986400@www.rikasarestaurant.com
SUMMARY:Live Music on Roof53 - PAUL MARTIN
DESCRIPTION:Join us for Live Music on Roof53
URL:https://www.rikasarestaurant.com/events/live-music-on-roof53-paul-martin/
LOCATION:The Joint 53\, 53 South Main Street\, Pittston\, PA\, PA 18640\, United States
CATEGORIES:Music at Rikasa,The Joint 53
END:VEVENT
BEGIN:VEVENT
DTSTART;TZID=America/New_York:20250822T190000
DTEND;TZID=America/New_York:20250822T220000
DTSTAMP:20260421T053109
CREATED:20250730T145208Z
LAST-MODIFIED:20250730T145208Z
UID:3936-1755889200-1755900000@www.rikasarestaurant.com
SUMMARY:Live Music at The Joint53 - ERIN MCCLELLAND
DESCRIPTION:Join us for Live Music in our Speakeasy – Joint 53
URL:https://www.rikasarestaurant.com/events/live-music-at-the-joint53-erin-mcclelland-4/
LOCATION:The Joint 53\, 53 South Main Street\, Pittston\, PA\, PA 18640\, United States
CATEGORIES:Music at Rikasa,The Joint 53
END:VEVENT
BEGIN:VEVENT
DTSTART;TZID=America/New_York:20250816T190000
DTEND;TZID=America/New_York:20250816T220000
DTSTAMP:20260421T053109
CREATED:20250730T145027Z
LAST-MODIFIED:20250730T145027Z
UID:3934-1755370800-1755381600@www.rikasarestaurant.com
SUMMARY:Live Music at The Joint53 - JOSH & CAREY
DESCRIPTION:Join us for Live Music in our Speakeasy – Joint 53
URL:https://www.rikasarestaurant.com/events/live-music-at-the-joint53-josh-carey/
LOCATION:The Joint 53\, 53 South Main Street\, Pittston\, PA\, PA 18640\, United States
CATEGORIES:Music at Rikasa,The Joint 53
END:VEVENT
BEGIN:VEVENT
DTSTART;TZID=America/New_York:20250815T190000
DTEND;TZID=America/New_York:20250815T220000
DTSTAMP:20260421T053109
CREATED:20250730T144951Z
LAST-MODIFIED:20250730T144951Z
UID:3933-1755284400-1755295200@www.rikasarestaurant.com
SUMMARY:Live Music at The Joint53 - DUELING PIANOS
DESCRIPTION:Join us for Live Music in our Speakeasy – Joint 53
URL:https://www.rikasarestaurant.com/events/live-music-at-the-joint53-dueling-pianos-2/
LOCATION:The Joint 53\, 53 South Main Street\, Pittston\, PA\, PA 18640\, United States
CATEGORIES:Music at Rikasa,The Joint 53
END:VEVENT
BEGIN:VEVENT
DTSTART;TZID=America/New_York:20250808T200000
DTEND;TZID=America/New_York:20250808T220000
DTSTAMP:20260421T053109
CREATED:20250730T144844Z
LAST-MODIFIED:20250730T144844Z
UID:3931-1754683200-1754690400@www.rikasarestaurant.com
SUMMARY:Live Music at The Joint53 - SOUTH SIDE FIVE
DESCRIPTION:Join us for Live Music in our Speakeasy – Joint 53
URL:https://www.rikasarestaurant.com/events/live-music-at-the-joint53-south-side-five-7/
LOCATION:The Joint 53\, 53 South Main Street\, Pittston\, PA\, PA 18640\, United States
CATEGORIES:Music at Rikasa,The Joint 53
END:VEVENT
BEGIN:VEVENT
DTSTART;TZID=America/New_York:20250808T190000
DTEND;TZID=America/New_York:20250808T220000
DTSTAMP:20260421T053109
CREATED:20250730T144918Z
LAST-MODIFIED:20250730T144918Z
UID:3932-1754679600-1754690400@www.rikasarestaurant.com
SUMMARY:Live Music at The Joint53 - JOHNNY DRESSLER
DESCRIPTION:Join us for Live Music in our Speakeasy – Joint 53
URL:https://www.rikasarestaurant.com/events/live-music-at-the-joint53-johnny-dressler-2/
LOCATION:The Joint 53\, 53 South Main Street\, Pittston\, PA\, PA 18640\, United States
CATEGORIES:Music at Rikasa,The Joint 53
END:VEVENT
BEGIN:VEVENT
DTSTART;TZID=America/New_York:20250802T190000
DTEND;TZID=America/New_York:20250802T220000
DTSTAMP:20260421T053109
CREATED:20250730T144813Z
LAST-MODIFIED:20250730T144813Z
UID:3930-1754161200-1754172000@www.rikasarestaurant.com
SUMMARY:Live Music at The Joint53 - ERIN MCCLELLAND
DESCRIPTION:Join us for Live Music in our Speakeasy – Joint 53
URL:https://www.rikasarestaurant.com/events/live-music-at-the-joint53-erin-mcclelland-3/
LOCATION:The Joint 53\, 53 South Main Street\, Pittston\, PA\, PA 18640\, United States
CATEGORIES:Music at Rikasa,The Joint 53
END:VEVENT
BEGIN:VEVENT
DTSTART;TZID=America/New_York:20250801T200000
DTEND;TZID=America/New_York:20250801T220000
DTSTAMP:20260421T053109
CREATED:20250730T144741Z
LAST-MODIFIED:20250730T144741Z
UID:3929-1754078400-1754085600@www.rikasarestaurant.com
SUMMARY:Live Music at The Joint53 - DAN WILKINS TRIO
DESCRIPTION:Join us for Live Music in our Speakeasy – Joint 53
URL:https://www.rikasarestaurant.com/events/live-music-at-the-joint53-dan-wilkins-trio-2/
LOCATION:The Joint 53\, 53 South Main Street\, Pittston\, PA\, PA 18640\, United States
CATEGORIES:Music at Rikasa,The Joint 53
END:VEVENT
BEGIN:VEVENT
DTSTART;TZID=America/New_York:20250726T190000
DTEND;TZID=America/New_York:20250726T220000
DTSTAMP:20260421T053109
CREATED:20250626T230817Z
LAST-MODIFIED:20250626T230817Z
UID:3878-1753556400-1753567200@www.rikasarestaurant.com
SUMMARY:Live Music at The Joint53 - JORDAN RAMIEREZ
DESCRIPTION:Join us for Live Music in our Speakeasy – Joint 53
URL:https://www.rikasarestaurant.com/events/live-music-at-the-joint53-jordan-ramierez/
LOCATION:The Joint 53\, 53 South Main Street\, Pittston\, PA\, PA 18640\, United States
CATEGORIES:Music at Rikasa,The Joint 53
END:VEVENT
END:VCALENDAR